BEGIN:VCALENDAR
VERSION:2.0
PRODID:-// - ECPv6.15.20//NONSGML v1.0//EN
CALSCALE:GREGORIAN
METHOD:PUBLISH
X-ORIGINAL-URL:https://donnaandthemystics.com
X-WR-CALDESC:Events for 
REFRESH-INTERVAL;VALUE=DURATION:PT1H
X-Robots-Tag:noindex
X-PUBLISHED-TTL:PT1H
BEGIN:VTIMEZONE
TZID:America/New_York
BEGIN:DAYLIGHT
TZOFFSETFROM:-0500
TZOFFSETTO:-0400
TZNAME:EDT
DTSTART:20240310T070000
END:DAYLIGHT
BEGIN:STANDARD
TZOFFSETFROM:-0400
TZOFFSETTO:-0500
TZNAME:EST
DTSTART:20241103T060000
END:STANDARD
BEGIN:DAYLIGHT
TZOFFSETFROM:-0500
TZOFFSETTO:-0400
TZNAME:EDT
DTSTART:20250309T070000
END:DAYLIGHT
BEGIN:STANDARD
TZOFFSETFROM:-0400
TZOFFSETTO:-0500
TZNAME:EST
DTSTART:20251102T060000
END:STANDARD
BEGIN:DAYLIGHT
TZOFFSETFROM:-0500
TZOFFSETTO:-0400
TZNAME:EDT
DTSTART:20260308T070000
END:DAYLIGHT
BEGIN:STANDARD
TZOFFSETFROM:-0400
TZOFFSETTO:-0500
TZNAME:EST
DTSTART:20261101T060000
END:STANDARD
END:VTIMEZONE
BEGIN:VEVENT
DTSTART;VALUE=DATE:20250921
DTEND;VALUE=DATE:20250928
DTSTAMP:20260423T071122
CREATED:20250327T162646Z
LAST-MODIFIED:20250327T162934Z
UID:816-1758412800-1759017599@donnaandthemystics.com
SUMMARY:Dollywood's Harvest Festival
DESCRIPTION:Join Us in Pigeon Forge and Gatlinburg\, TN for a week in the Smokie Mountains!\n \nFall glows brightest at Dollywood\, where autumn days burst to life in vivid color & nights glimmer with illuminating surprises. Explore among enchanting Hoot Owl Hollow\, hear a mystical melody from Dolly’s giant\, glowing guitar\, and gaze up at a towering 40-foot pumpkin tree exclusively during Great Pumpkin LumiNights. By day\, celebrate the season of many colors with the return of Dollywood’s Harvest Festival where dozens of talented musicians perform Southern  gospel\, country & bluegrass melodies. \n\nDeluxe chartered motorcoach transportation including driver expenses and gratuities.\nAccommodations (including breakfast) for four nights in Pigeon Forge\, Tennessee and two nights en route.\nDay of fun and excitement at the Dollywood Harvest Festival\, where they celebrate the best of life as they\nlight up the Smokies with rides\, slides\, live entertainment\, food\, and laughter !\nHatfield & McCoy Dinner Feud (longest running feud in history) with an all-you-can-eat Southern homestyle feast.\nPigeon Forge Redneck Comedy Bus Tour – laugh your way through the Smokies & get Redneck-Certified.\nOber Aerial Tram ride up Ober Mountain with breath-taking panoramic views of the Smoky Mountains.\nDolly Parton’s Dixie Stampede with thrilling horse riding stunts\, phenomenal music & 4-course dinner feast.\nSelf-guided tour of the Hollywood Star Cars Museum\, featuring the best Hollywood movie and TV cars.\nTour and Tasting at Ole Smoky Moonshine Distillery in Gatlinburg !\nFree time to enjoy the town of Gatlinburg (shopping at ‘The Village Shops’) and lunch on your own. Optional Whiskey Tasting (at your own expense) at the Ole Smoky Barrel House Distillery.\nCountry Tonite Show in Pigeon Forge\, a fast-paced show with classic country hits\, comedy\, gospel & patriotism.\nSouvenir shopping at The Incredible Christmas Place with a beautiful courtyard & Bavarian-style village shops.\nA full-time tour manager\, luggage handling\, and all taxes & tips (including driver & tour manager tips).\n\nProgram fee includes full-time tour leader\, driver expenses & gratuities\, luggage handling\, and 3 dinners. \nSPACE IS LIMITED AND RESERVATIONS WILL BE TAKEN ON A FIRST-COME FIRST-SERVED BASIS. \nPrice per person:\n$1\,499 double   $1\,399 triple   $1\,949 single \nPick-ups: Batavia/Pembroke\, Canandaigua\, Auburn\, and Cortland\nTo Register: Submit a $100.00 per person deposit and Overnight Tour Registration Form to:  Bus America Group Tours\, 668 Phillips Road\, Victor\, NY 14564 \n(Checks payable to ‘Bus America Group Tours’ or pay by credit card online or by phone.) \nBalance Due: Travelers will be invoiced for the balance in installments\, with balance due October 15th. \nFor More Info: \nDonna & Mark Minnoe:  Tel. (315) 224-9085 \nBus America Group Tours: Tel. (585) 697-3590 \ninfo@grouptoursinc.com\nwww.grouptoursinc.com \n 
URL:https://donnaandthemystics.com/event/dollywoods-harvest-festival/
LOCATION:NY
CATEGORIES:Tour
ATTACH;FMTTYPE=image/png:https://donnaandthemystics.com/wp-content/uploads/2025/03/Dollywood.png
END:VEVENT
END:VCALENDAR