BEGIN:VCALENDAR
VERSION:2.0
PRODID:-// - ECPv6.15.20//NONSGML v1.0//EN
CALSCALE:GREGORIAN
METHOD:PUBLISH
X-ORIGINAL-URL:https://donnaandthemystics.com
X-WR-CALDESC:Events for 
REFRESH-INTERVAL;VALUE=DURATION:PT1H
X-Robots-Tag:noindex
X-PUBLISHED-TTL:PT1H
BEGIN:VTIMEZONE
TZID:America/New_York
BEGIN:DAYLIGHT
TZOFFSETFROM:-0500
TZOFFSETTO:-0400
TZNAME:EDT
DTSTART:20240310T070000
END:DAYLIGHT
BEGIN:STANDARD
TZOFFSETFROM:-0400
TZOFFSETTO:-0500
TZNAME:EST
DTSTART:20241103T060000
END:STANDARD
BEGIN:DAYLIGHT
TZOFFSETFROM:-0500
TZOFFSETTO:-0400
TZNAME:EDT
DTSTART:20250309T070000
END:DAYLIGHT
BEGIN:STANDARD
TZOFFSETFROM:-0400
TZOFFSETTO:-0500
TZNAME:EST
DTSTART:20251102T060000
END:STANDARD
BEGIN:DAYLIGHT
TZOFFSETFROM:-0500
TZOFFSETTO:-0400
TZNAME:EDT
DTSTART:20260308T070000
END:DAYLIGHT
BEGIN:STANDARD
TZOFFSETFROM:-0400
TZOFFSETTO:-0500
TZNAME:EST
DTSTART:20261101T060000
END:STANDARD
END:VTIMEZONE
BEGIN:VEVENT
DTSTART;TZID=America/New_York:20251018T190000
DTEND;TZID=America/New_York:20251018T220000
DTSTAMP:20260423T052332
CREATED:20251004T222445Z
LAST-MODIFIED:20251017T151108Z
UID:1129-1760814000-1760824800@donnaandthemystics.com
SUMMARY:🎸 Donna and the Mystics Live at The Golden Horseshoe! 🤠
DESCRIPTION:Get ready for a night of toe-tappin’\, boot-scootin’ fun when Donna and the Mystics take the stage at The Golden Horseshoe on Saturday\, October 18th from 7–10 PM! \nThis powerhouse country rock band brings the perfect mix of classic favorites and crowd-pleasing originals — guaranteed to get you dancing\, singing along\, and shouting “Whoop Whoop!” before the night’s through. \n🍔 Food and drinks available for purchase💵 $8 cover charge at the door🚫 No coolers allowed \nRound up your friends\, polish those boots\, and come spend your Saturday night where the music’s live\, the drinks are cold\, and the country spirit runs deep. \nThe Golden Horseshoe — where every show feels like home.
URL:https://donnaandthemystics.com/event/%f0%9f%8e%b8-donna-and-the-mystics-live-at-the-golden-horseshoe-%f0%9f%a4%a0/
LOCATION:The Golden Horseshoe\, 2068 Dumplin Hill Rd.\, Moravia\, NY\, 13118\, United States
ATTACH;FMTTYPE=image/png:https://donnaandthemystics.com/wp-content/uploads/2025/10/Donna-Mystics-Facebook-Posts-1.png
END:VEVENT
END:VCALENDAR