BEGIN:VCALENDAR
VERSION:2.0
PRODID:-// - ECPv6.15.20//NONSGML v1.0//EN
CALSCALE:GREGORIAN
METHOD:PUBLISH
X-ORIGINAL-URL:https://donnaandthemystics.com
X-WR-CALDESC:Events for 
REFRESH-INTERVAL;VALUE=DURATION:PT1H
X-Robots-Tag:noindex
X-PUBLISHED-TTL:PT1H
BEGIN:VTIMEZONE
TZID:America/New_York
BEGIN:DAYLIGHT
TZOFFSETFROM:-0500
TZOFFSETTO:-0400
TZNAME:EDT
DTSTART:20240310T070000
END:DAYLIGHT
BEGIN:STANDARD
TZOFFSETFROM:-0400
TZOFFSETTO:-0500
TZNAME:EST
DTSTART:20241103T060000
END:STANDARD
BEGIN:DAYLIGHT
TZOFFSETFROM:-0500
TZOFFSETTO:-0400
TZNAME:EDT
DTSTART:20250309T070000
END:DAYLIGHT
BEGIN:STANDARD
TZOFFSETFROM:-0400
TZOFFSETTO:-0500
TZNAME:EST
DTSTART:20251102T060000
END:STANDARD
BEGIN:DAYLIGHT
TZOFFSETFROM:-0500
TZOFFSETTO:-0400
TZNAME:EDT
DTSTART:20260308T070000
END:DAYLIGHT
BEGIN:STANDARD
TZOFFSETFROM:-0400
TZOFFSETTO:-0500
TZNAME:EST
DTSTART:20261101T060000
END:STANDARD
END:VTIMEZONE
BEGIN:VEVENT
DTSTART;TZID=America/New_York:20251026T140000
DTEND;TZID=America/New_York:20251026T180000
DTSTAMP:20260423T052332
CREATED:20251014T000356Z
LAST-MODIFIED:20251014T000356Z
UID:1135-1761487200-1761501600@donnaandthemystics.com
SUMMARY:🎃 Classic Country Sundays — Halloween Party at The Golden Horseshoe! 👻
DESCRIPTION:Get ready for a spooktacular afternoon of classic country tunes\, costumes\, and good ol’ Halloween fun! Join Donna and the Mystics along with special guest entertainers for a toe-tappin’\, boot-scootin’\, ghost-dancin’ kind of day! \n🕐 Doors open at 1 PM | Live music from 2–6 PM💵 $8 cover charge at the door🍔 Food and drinks available for purchase — no coolers\, please🎭 Costumes encouraged — prizes awarded for the best ones! \nBring your friends\, dress to impress (or to scare!)\, and spend your Sunday afternoon celebrating Halloween country-style — with great music\, good food\, and plenty of laughs. \nThe Golden Horseshoe — where country meets costume party!
URL:https://donnaandthemystics.com/event/%f0%9f%8e%83-classic-country-sundays-halloween-party-at-the-golden-horseshoe-%f0%9f%91%bb/
LOCATION:The Golden Horseshoe\, 2068 Dumplin Hill Rd.\, Moravia\, NY\, 13118\, United States
CATEGORIES:Classic Country Sunday
ATTACH;FMTTYPE=image/png:https://donnaandthemystics.com/wp-content/uploads/2025/10/Halloween-Party.png
END:VEVENT
END:VCALENDAR