BEGIN:VCALENDAR
VERSION:2.0
PRODID:-// - ECPv6.15.20//NONSGML v1.0//EN
CALSCALE:GREGORIAN
METHOD:PUBLISH
X-ORIGINAL-URL:https://donnaandthemystics.com
X-WR-CALDESC:Events for 
REFRESH-INTERVAL;VALUE=DURATION:PT1H
X-Robots-Tag:noindex
X-PUBLISHED-TTL:PT1H
BEGIN:VTIMEZONE
TZID:America/New_York
BEGIN:DAYLIGHT
TZOFFSETFROM:-0500
TZOFFSETTO:-0400
TZNAME:EDT
DTSTART:20250309T070000
END:DAYLIGHT
BEGIN:STANDARD
TZOFFSETFROM:-0400
TZOFFSETTO:-0500
TZNAME:EST
DTSTART:20251102T060000
END:STANDARD
BEGIN:DAYLIGHT
TZOFFSETFROM:-0500
TZOFFSETTO:-0400
TZNAME:EDT
DTSTART:20260308T070000
END:DAYLIGHT
BEGIN:STANDARD
TZOFFSETFROM:-0400
TZOFFSETTO:-0500
TZNAME:EST
DTSTART:20261101T060000
END:STANDARD
BEGIN:DAYLIGHT
TZOFFSETFROM:-0500
TZOFFSETTO:-0400
TZNAME:EDT
DTSTART:20270314T070000
END:DAYLIGHT
BEGIN:STANDARD
TZOFFSETFROM:-0400
TZOFFSETTO:-0500
TZNAME:EST
DTSTART:20271107T060000
END:STANDARD
END:VTIMEZONE
BEGIN:VEVENT
DTSTART;TZID=America/New_York:20260912T140000
DTEND;TZID=America/New_York:20260912T160000
DTSTAMP:20260423T040435
CREATED:20260210T172532Z
LAST-MODIFIED:20260210T172532Z
UID:1180-1789221600-1789228800@donnaandthemystics.com
SUMMARY:Tomato Fest 2026
DESCRIPTION:Get ready to kick up your boots and sing along with Donna and the Mystics! 🎶 \n🔥 From rockin’ country hits to high-energy classics\, we’re bringing the party to a location near you! Grab your friends\, grab a drink\, and let’s make some memories. \nTomato Fest is a vibrant\, family-friendly festival featuring craft vendors\, live music\, delicious food\, kids’ activities\, and booths from local nonprofits. It’s a day of community connection and celebration in Downtown Auburn\, NY\, all while raising funds and awareness for food insecurity in our area. \nWhoop Whoop! 🤠🎸
URL:https://donnaandthemystics.com/event/tomato-fest-2026/
LOCATION:NY
CATEGORIES:Local Gig
ATTACH;FMTTYPE=image/webp:https://donnaandthemystics.com/wp-content/uploads/2026/02/TomatoFestLogoWhiteRedWebsite.webp
END:VEVENT
END:VCALENDAR