BEGIN:VCALENDAR
VERSION:2.0
PRODID:-// - ECPv6.15.20//NONSGML v1.0//EN
CALSCALE:GREGORIAN
METHOD:PUBLISH
X-ORIGINAL-URL:https://donnaandthemystics.com
X-WR-CALDESC:Events for 
REFRESH-INTERVAL;VALUE=DURATION:PT1H
X-Robots-Tag:noindex
X-PUBLISHED-TTL:PT1H
BEGIN:VTIMEZONE
TZID:America/New_York
BEGIN:DAYLIGHT
TZOFFSETFROM:-0500
TZOFFSETTO:-0400
TZNAME:EDT
DTSTART:20240310T070000
END:DAYLIGHT
BEGIN:STANDARD
TZOFFSETFROM:-0400
TZOFFSETTO:-0500
TZNAME:EST
DTSTART:20241103T060000
END:STANDARD
BEGIN:DAYLIGHT
TZOFFSETFROM:-0500
TZOFFSETTO:-0400
TZNAME:EDT
DTSTART:20250309T070000
END:DAYLIGHT
BEGIN:STANDARD
TZOFFSETFROM:-0400
TZOFFSETTO:-0500
TZNAME:EST
DTSTART:20251102T060000
END:STANDARD
BEGIN:DAYLIGHT
TZOFFSETFROM:-0500
TZOFFSETTO:-0400
TZNAME:EDT
DTSTART:20260308T070000
END:DAYLIGHT
BEGIN:STANDARD
TZOFFSETFROM:-0400
TZOFFSETTO:-0500
TZNAME:EST
DTSTART:20261101T060000
END:STANDARD
END:VTIMEZONE
BEGIN:VEVENT
DTSTART;TZID=America/New_York:20251211T110000
DTEND;TZID=America/New_York:20251211T153000
DTSTAMP:20260422T204703
CREATED:20250319T203236Z
LAST-MODIFIED:20250319T203731Z
UID:761-1765450800-1765467000@donnaandthemystics.com
SUMMARY:Country Christmas Dinner Show
DESCRIPTION:Celebrate the Season with Great Holiday Music\n \n  \nEnjoy a show with many extras as Donna and the Mystics put you in the Christmas spirit.  You will be listening and singing along as you enjoy your favorite Christmas music like Rockin’ Around the Christmas Tree\, White Christmas\, Jingle Bells\, Blue Christmas and many more.  \nThere will be lots of surprises\, too! \nBefore the show\, take some time to check out some cool things at Southern Tier Stables: \n\nWagon Ride (weather permitting) to Turn Back Time with our version of Green Acres\, Petticoat Junction\, Little House on the Prairie\, and The Waltons House\nFarmall Tractor Display\nMystic Music Museum\nNew Agricultural Museum\, featuring a stage coach\, sleighs\, and much more\nRelax and enjoy the iconic scenic view of the horses or play some Bingo\n\nSchedule:\n\nDoors open at 11:00 am\nChristmas Trivia and Basket Giveaways begin at 11:00 am\nHam dinner served at 12:30 pm\nCountry with a Twist Show starts at 1:45 pm\n\nCall for Reservations: (315) 224-9085
URL:https://donnaandthemystics.com/event/country-christmas-dinner-show/
LOCATION:The Golden Horseshoe\, 2068 Dumplin Hill Rd.\, Moravia\, NY\, 13118\, United States
CATEGORIES:Dinner Show
ATTACH;FMTTYPE=image/jpeg:https://donnaandthemystics.com/wp-content/uploads/2025/03/Country-Christmas.jpg
END:VEVENT
BEGIN:VEVENT
DTSTART;TZID=America/New_York:20251016T110000
DTEND;TZID=America/New_York:20251016T153000
DTSTAMP:20260422T204703
CREATED:20250319T203714Z
LAST-MODIFIED:20250319T203714Z
UID:764-1760612400-1760628600@donnaandthemystics.com
SUMMARY:Country with a Twist Dinner Show
DESCRIPTION:Back by Popular Demand!\nDonna & the Mystics Transform from Country to Rock ‘n Roll in 1 Show\n  \n \n  \nDress up in your favorite country or 50s/60s outfit and enjoy the best of kickin’ country music and a sock-hop band in one show! There will be tons of fun\, so wear your hats\, boots\, poodle skirts or saddle shoes to boot scoot\, hula hoops and twist the day away. \nLittle Bit of Country with Donna & the Mystics\nEnjoy all your favorite country songs from years gone by as you kick up your heels in your favorite western duds and have a grand ole time with songs from Loretta Lynn\, Merle Haggard\, Patsy Cline\, Johnny Cash and so much more.  Prizes will be awarded for Best Dressed Cowboy and Cowgirl! \nLittle Bit of Rock ‘n Roll with Donna & the Hi Tops\nDo the shake and twist the afternoon away with music from the 50s & 60s. Bring back memories as you shake\, rattle and roll with music from Chuck Barry\, Elvis\, Bill Haley\, The Comets\, and much more.  Wear your 50s-inspired outfits of poodle skies\, bobbi socks\, saddle shoes\, letter jackets to be entered to win prizes for Best Dressed 50s Outfit. \nBefore the show\, take some time to check out some cool things at Southern Tier Stables: \n\nWagon Ride (weather permitting) to Turn Back Time with our version of Green Acres\, Petticoat Junction\, Little House on the Prairie\, and The Waltons House\nFarmall Tractor Display\nMystic Music Museum\nNew Agricultural Museum\, featuring a stage coach\, sleighs\, and much more\nRelax and enjoy the iconic scenic view of the horses or play some Bingo\n\nSchedule:\n\nDoors open at 11:00 am\nWagon rides to Turn Back Time begin at 11:15 am\nMuseum displays are available all day\nPork dinner served at 12:30 pm\nCountry with a Twist Show starts at 1:45 pm\n\nCall for Reservations: (315) 224-9085
URL:https://donnaandthemystics.com/event/country-with-a-twist-dinner-show/
LOCATION:The Golden Horseshoe\, 2068 Dumplin Hill Rd.\, Moravia\, NY\, 13118\, United States
CATEGORIES:Dinner Show
ATTACH;FMTTYPE=image/jpeg:https://donnaandthemystics.com/wp-content/uploads/2025/03/Country-with-a-Twist.jpg
END:VEVENT
BEGIN:VEVENT
DTSTART;TZID=America/New_York:20250918T110000
DTEND;TZID=America/New_York:20250918T153000
DTSTAMP:20260422T204703
CREATED:20250319T204643Z
LAST-MODIFIED:20250807T182430Z
UID:772-1758193200-1758209400@donnaandthemystics.com
SUMMARY:Wild Western Frontier Fun Dinner Show
DESCRIPTION:Kick Up Your Heels with Country Music by Donna & the Mystics\n  \n \n  \nDress up in your best western wear and enjoy our brand new blazed trail as we take you on a tractor-pulled wagon ride (weather permitting) through the woods for a touch of a western frontier with a few surprises.   \nAfter the wagon ride\, dig in to a delicious barbeque lunch. Then kick up your heels to some rompin’\, stompin’ country music by Donna and the Mystics. \nBefore the show\, take some time to check out some cool things at Southern Tier Stables: \n\nWagon Ride (weather permitting) to Turn Back Time with our version of Green Acres\, Petticoat Junction\, Little House on the Prairie\, and The Waltons House\nFarmall Tractor Display\nMystic Music Museum\nNew Agricultural Museum\, featuring a stage coach\, sleighs\, and much more\nRelax and enjoy the iconic scenic view of the horses or play some Bingo\n\nSchedule:\n\nDoors open at 11:00 am\nWagon rides to Turn Back Time begin at 11:15 am\nMuseum displays are available all day\nBBQ Dinner with Pulled Pork\, BBQ Chicken and all the fixings served at 12:30 pm\nDonna & the Mystics Country Show starts at 1:45 pm\n\nCall for Reservations: (315) 224-9085
URL:https://donnaandthemystics.com/event/wild-western-frontier-fun-dinner-show/
LOCATION:The Golden Horseshoe\, 2068 Dumplin Hill Rd.\, Moravia\, NY\, 13118\, United States
CATEGORIES:Dinner Show
ATTACH;FMTTYPE=image/jpeg:https://donnaandthemystics.com/wp-content/uploads/2025/03/Western-Frontier.jpg
END:VEVENT
BEGIN:VEVENT
DTSTART;TZID=America/New_York:20250522T110000
DTEND;TZID=America/New_York:20250522T153000
DTSTAMP:20260422T204703
CREATED:20250319T203947Z
LAST-MODIFIED:20250319T203947Z
UID:766-1747911600-1747927800@donnaandthemystics.com
SUMMARY:Mr. and Ms. Elvis Dinner Show
DESCRIPTION:Tom Gilbo and Donna Minnoe are Mr. and Ms. Elvis!!\nA Show You Don’t Wanna Miss! \n  \n \n  \nTom and Donna bring back all the favorite songs from Elvis Presley. You’ll be entertained from start to finish as you shake\, rattle and roll the afternoon away.  \nTom has all the moves and grooves and the voice to match. The ladies will be screamin’ for their hugs\, kisses and scarves from this terrific show\, while the gents will be pretending not to like the interaction with Ms. Elvis! \nBefore the show\, take some time to check out some cool things at Southern Tier Stables: \n\nWagon Ride (weather permitting) to Turn Back Time with our version of Green Acres\, Petticoat Junction\, Little House on the Prairie\, and The Waltons House\nFarmall Tractor Display\nMystic Music Museum\nNew Agricultural Museum\, featuring a stage coach\, sleighs\, and much more\nRelax and enjoy the iconic scenic view of the horses or play some Bingo\n\nSchedule:\n\nDoors open at 11:00 am\nWagon rides to Turn Back Time begin at 11:15 am\nMuseum displays are available all day\nChicken & Biscuit (with all the fixings) served at 12:30 pm\nMr. & Ms. Elvis Show starts at 1:45 pm\n\nCall for Reservations: (315) 224-9085
URL:https://donnaandthemystics.com/event/mr-and-ms-elvis-dinner-show/
LOCATION:The Golden Horseshoe\, 2068 Dumplin Hill Rd.\, Moravia\, NY\, 13118\, United States
CATEGORIES:Dinner Show
ATTACH;FMTTYPE=image/jpeg:https://donnaandthemystics.com/wp-content/uploads/2025/03/Mr-and-Ms-Elvis.jpg
END:VEVENT
BEGIN:VEVENT
DTSTART;TZID=America/New_York:20250424T110000
DTEND;TZID=America/New_York:20250424T153000
DTSTAMP:20260422T204703
CREATED:20250319T204337Z
LAST-MODIFIED:20250321T182931Z
UID:768-1745492400-1745508600@donnaandthemystics.com
SUMMARY:Thelma and Matt Chase Dinner Show
DESCRIPTION:Celebrate the Arrival of Spring at the Golden Horseshoe\nwith the Lively Country Sounds of Thelma & Matt Chase!\n  \n \n  \nEnjoy a pancake breakfast with all the fixings\, including our very own homemade Maple Syrup! Thelma and Matt Chase will perform after the meal. \nBefore the show\, take some time to check out some cool things at Southern Tier Stables: \n\nWagon Ride (weather permitting) to Turn Back Time with our version of Green Acres\, Petticoat Junction\, Little House on the Prairie\, and The Waltons House\nFarmall Tractor Display\nMystic Music Museum\nNew Agricultural Museum\, featuring a stage coach\, sleighs\, and much more\nRelax and enjoy the iconic scenic view of the horses or play some Bingo\n\nSchedule:\n\nDoors open at 11:00 am\nWagon rides to Turn Back Time begin at 11:15 am\nMuseum displays are available all day\nBreakfast is served at 12:30 pm\nThelma and Matt Chase Show starts at 1:45 pm\n\nCall for Reservations: (315) 224-9085 \nOverflow date – May 1\, 2025
URL:https://donnaandthemystics.com/event/thelma-and-matt-chase-dinner-show/
LOCATION:The Golden Horseshoe\, 2068 Dumplin Hill Rd.\, Moravia\, NY\, 13118\, United States
CATEGORIES:Dinner Show
ATTACH;FMTTYPE=image/jpeg:https://donnaandthemystics.com/wp-content/uploads/2025/03/Thelma-Matt-Chase.jpg
END:VEVENT
END:VCALENDAR