BEGIN:VCALENDAR
VERSION:2.0
PRODID:-// - ECPv6.15.20//NONSGML v1.0//EN
CALSCALE:GREGORIAN
METHOD:PUBLISH
X-ORIGINAL-URL:https://donnaandthemystics.com
X-WR-CALDESC:Events for 
REFRESH-INTERVAL;VALUE=DURATION:PT1H
X-Robots-Tag:noindex
X-PUBLISHED-TTL:PT1H
BEGIN:VTIMEZONE
TZID:America/New_York
BEGIN:DAYLIGHT
TZOFFSETFROM:-0500
TZOFFSETTO:-0400
TZNAME:EDT
DTSTART:20240310T070000
END:DAYLIGHT
BEGIN:STANDARD
TZOFFSETFROM:-0400
TZOFFSETTO:-0500
TZNAME:EST
DTSTART:20241103T060000
END:STANDARD
BEGIN:DAYLIGHT
TZOFFSETFROM:-0500
TZOFFSETTO:-0400
TZNAME:EDT
DTSTART:20250309T070000
END:DAYLIGHT
BEGIN:STANDARD
TZOFFSETFROM:-0400
TZOFFSETTO:-0500
TZNAME:EST
DTSTART:20251102T060000
END:STANDARD
BEGIN:DAYLIGHT
TZOFFSETFROM:-0500
TZOFFSETTO:-0400
TZNAME:EDT
DTSTART:20260308T070000
END:DAYLIGHT
BEGIN:STANDARD
TZOFFSETFROM:-0400
TZOFFSETTO:-0500
TZNAME:EST
DTSTART:20261101T060000
END:STANDARD
BEGIN:DAYLIGHT
TZOFFSETFROM:-0500
TZOFFSETTO:-0400
TZNAME:EDT
DTSTART:20270314T070000
END:DAYLIGHT
BEGIN:STANDARD
TZOFFSETFROM:-0400
TZOFFSETTO:-0500
TZNAME:EST
DTSTART:20271107T060000
END:STANDARD
END:VTIMEZONE
BEGIN:VEVENT
DTSTART;TZID=America/New_York:20260418T190000
DTEND;TZID=America/New_York:20260418T220000
DTSTAMP:20260422T191225
CREATED:20260210T164150Z
LAST-MODIFIED:20260210T164944Z
UID:1153-1776538800-1776549600@donnaandthemystics.com
SUMMARY:Donna and the Mystics at Waterloo Sportsman’s Club
DESCRIPTION:When Donna and the Mystics hit the stage at Waterloo Sportsman’s Club\, you know you’re in for a great night of classic country\, dancing\, and down-home fun. This fan-favorite band brings a lively mix of traditional country hits\, honky-tonk favorites\, and crowd-pleasing tunes that keep the dance floor moving all night long. \nThe Sportsman’s Club is a perfect fit for the Mystics’ warm\, high-energy sound — friendly faces\, a relaxed atmosphere\, and music that feels like home. Whether you’re two-stepping with a partner\, singing along from your seat\, or just enjoying a night out with friends\, every show feels like a country get-together with great music at the center. \nDonna and the Mystics return to Waterloo Sportsman’s Club several times throughout the year\, and each show delivers the same thing: great songs\, great dancing\, and a room full of people having a good time. Come early\, stay late\, and be part of a night that keeps folks coming back for more.
URL:https://donnaandthemystics.com/event/donna-and-the-mystics-at-waterloo-sportsmans-club/
LOCATION:Waterloo Sportsman’s Club\, 2654 Edwards Rd.\, Waterloo\, NY\, 13165\, United States
CATEGORIES:Local Gig
ATTACH;FMTTYPE=image/png:https://donnaandthemystics.com/wp-content/uploads/2026/02/Waterloo-Club.png
END:VEVENT
BEGIN:VEVENT
DTSTART;TZID=America/New_York:20260328T190000
DTEND;TZID=America/New_York:20260328T220000
DTSTAMP:20260422T191225
CREATED:20260210T163621Z
LAST-MODIFIED:20260210T163824Z
UID:1149-1774724400-1774735200@donnaandthemystics.com
SUMMARY:Donna and the Mystics Live
DESCRIPTION:Get ready for a boot-stompin’\, dance-floor-fillin’ night with Donna and the Mystics! 🤠🎵This crowd-favorite band brings classic country\, honky-tonk hits\, and feel-good favorites that keep the dance floor packed from the first song to the last. \nThe Elmira Heights American Legion is the perfect spot for a relaxed\, fun night out — great people\, great atmosphere\, and even better music. Whether you’re a longtime fan or seeing the band for the first time\, this is the kind of show that turns first-timers into regulars. \nCome early\, grab a drink\, and let the good times roll!
URL:https://donnaandthemystics.com/event/donna-and-the-mystics-live/
LOCATION:Elmira Heights American Legion\, 236 Prescott Ave\, Elmira Heights\, NY\, 14903\, United States
CATEGORIES:Local Gig
ATTACH;FMTTYPE=image/png:https://donnaandthemystics.com/wp-content/uploads/2026/02/2026-event-header.png
END:VEVENT
BEGIN:VEVENT
DTSTART;TZID=America/New_York:20260221T180000
DTEND;TZID=America/New_York:20260221T220000
DTSTAMP:20260422T191225
CREATED:20260210T163513Z
LAST-MODIFIED:20260210T163513Z
UID:1145-1771696800-1771711200@donnaandthemystics.com
SUMMARY:A Race for Life Benefit
DESCRIPTION:Music with a mission! ❤️🎶 \nJoin Donna and the Mystics for A Race for Life Benefit\, a special night of live country music supporting an important cause. This feel-good evening brings the community together for great tunes\, dancing\, and a whole lot of heart. \nExpect a lively mix of classic country favorites and dance-floor hits — the kind that make you smile\, sing along\, and stay longer than you planned. Every song helps support a meaningful cause\, so you can have fun and make a difference. \nCome out\, bring friends\, and help turn music into hope.
URL:https://donnaandthemystics.com/event/a-race-for-life-benefit/
LOCATION:Montour Falls Moose Lodge #426\, 2096 Co Rd 14\, Montour Falls\, NY\, 14865\, United States
CATEGORIES:Local Gig
ATTACH;FMTTYPE=image/png:https://donnaandthemystics.com/wp-content/uploads/2026/02/2026-event-header.png
END:VEVENT
BEGIN:VEVENT
DTSTART;TZID=America/New_York:20260214T190000
DTEND;TZID=America/New_York:20260214T220000
DTSTAMP:20260422T191225
CREATED:20260210T162922Z
LAST-MODIFIED:20260210T162922Z
UID:1139-1771095600-1771106400@donnaandthemystics.com
SUMMARY:Valentine’s Day Dance
DESCRIPTION:Grab your sweetheart\, your best boots\, and your favorite dance partner — it’s time for a Valentine’s Day Dance done the country way! 💕🎸 \nDonna and the Mystics will be serving up toe-tappin’\, heart-stealin’ rockin’ country and crowd-favorite hits that’ll have you two-stepping all night long. Whether you’re celebrating love\, friendship\, or just your love of good music\, this is the perfect way to spend Valentine’s night. \nRomantic tunes\, upbeat dance numbers\, and a fun\, welcoming crowd make this a can’t-miss evening. \n💘 Cover charge at the door — come early\, grab a spot\, and let the music do the rest.
URL:https://donnaandthemystics.com/event/valentines-day-dance/
LOCATION:Waterloo Sportsman’s Club\, 2654 Edwards Rd.\, Waterloo\, NY\, 13165\, United States
CATEGORIES:Local Gig
ATTACH;FMTTYPE=image/png:https://donnaandthemystics.com/wp-content/uploads/2026/02/Valentines-Day.png
END:VEVENT
BEGIN:VEVENT
DTSTART;TZID=America/New_York:20251231T200000
DTEND;TZID=America/New_York:20251231T220000
DTSTAMP:20260422T191225
CREATED:20250428T135225Z
LAST-MODIFIED:20250428T135225Z
UID:1103-1767211200-1767218400@donnaandthemystics.com
SUMMARY:New Year's Eve Party
DESCRIPTION:Get ready to kick up your boots and sing along with Donna and the Mystics! 🎶 \n🔥 From rockin’ country hits to high-energy classics\, we’re bringing the party to a location near you! Grab your friends\, grab a drink\, and let’s make some memories. \nWhoop Whoop! 🤠🎸
URL:https://donnaandthemystics.com/event/new-years-eve-party/
LOCATION:Waterloo Sportsman’s Club\, 2654 Edwards Rd.\, Waterloo\, NY\, 13165\, United States
CATEGORIES:Local Gig
ATTACH;FMTTYPE=image/jpeg:https://donnaandthemystics.com/wp-content/uploads/2025/03/Live-Music.jpg
END:VEVENT
BEGIN:VEVENT
DTSTART;TZID=America/New_York:20251122T190000
DTEND;TZID=America/New_York:20251122T220000
DTSTAMP:20260422T191225
CREATED:20250428T135055Z
LAST-MODIFIED:20250428T135055Z
UID:1101-1763838000-1763848800@donnaandthemystics.com
SUMMARY:Waterloo Sportsman's Club
DESCRIPTION:Get ready to kick up your boots and sing along with Donna and the Mystics! 🎶 \n🔥 From rockin’ country hits to high-energy classics\, we’re bringing the party to a location near you! Grab your friends\, grab a drink\, and let’s make some memories. \nWhoop Whoop! 🤠🎸
URL:https://donnaandthemystics.com/event/waterloo-sportsmans-club-7/
LOCATION:Waterloo Sportsman’s Club\, 2654 Edwards Rd.\, Waterloo\, NY\, 13165\, United States
CATEGORIES:Local Gig
ATTACH;FMTTYPE=image/jpeg:https://donnaandthemystics.com/wp-content/uploads/2025/03/Live-Music.jpg
END:VEVENT
BEGIN:VEVENT
DTSTART;TZID=America/New_York:20251025T190000
DTEND;TZID=America/New_York:20251025T220000
DTSTAMP:20260422T191225
CREATED:20250428T133910Z
LAST-MODIFIED:20250428T133910Z
UID:1096-1761418800-1761429600@donnaandthemystics.com
SUMMARY:Waterloo Sportsman's Club
DESCRIPTION:Get ready to kick up your boots and sing along with Donna and the Mystics! 🎶 \n🔥 From rockin’ country hits to high-energy classics\, we’re bringing the party to a location near you! Grab your friends\, grab a drink\, and let’s make some memories. \nWhoop Whoop! 🤠🎸
URL:https://donnaandthemystics.com/event/waterloo-sportsmans-club-6/
LOCATION:Waterloo Sportsman’s Club\, 2654 Edwards Rd.\, Waterloo\, NY\, 13165\, United States
CATEGORIES:Local Gig
ATTACH;FMTTYPE=image/jpeg:https://donnaandthemystics.com/wp-content/uploads/2025/03/Live-Music.jpg
END:VEVENT
BEGIN:VEVENT
DTSTART;TZID=America/New_York:20250920T180000
DTEND;TZID=America/New_York:20250920T210000
DTSTAMP:20260422T191225
CREATED:20250428T133802Z
LAST-MODIFIED:20250428T133802Z
UID:1094-1758391200-1758402000@donnaandthemystics.com
SUMMARY:Bass Lake Resort Campground
DESCRIPTION:Get ready to kick up your boots and sing along with Donna and the Mystics! 🎶 \n🔥 From rockin’ country hits to high-energy classics\, we’re bringing the party to a location near you! Grab your friends\, grab a drink\, and let’s make some memories. \nWhoop Whoop! 🤠🎸
URL:https://donnaandthemystics.com/event/bass-lake-resort-campground-2/
LOCATION:Bass Lake Resort Campground\, 132 Crim Road\, Parish\, NY\, United States
CATEGORIES:Local Gig
ATTACH;FMTTYPE=image/jpeg:https://donnaandthemystics.com/wp-content/uploads/2025/03/Live-Music.jpg
END:VEVENT
BEGIN:VEVENT
DTSTART;TZID=America/New_York:20250906T140000
DTEND;TZID=America/New_York:20250906T150000
DTSTAMP:20260422T191225
CREATED:20250428T133552Z
LAST-MODIFIED:20250807T181526Z
UID:1092-1757167200-1757170800@donnaandthemystics.com
SUMMARY:2025 Tomato Fest
DESCRIPTION:Get ready to kick up your boots and sing along with Donna and the Mystics! 🎶 \n🔥 From rockin’ country hits to high-energy classics\, we’re bringing the party to a location near you! Grab your friends\, grab a drink\, and let’s make some memories. \nTomato Fest is a vibrant\, family-friendly festival featuring craft vendors\, live music\, delicious food\, kids’ activities\, and booths from local nonprofits. It’s a day of community connection and celebration in Downtown Auburn\, NY\, all while raising funds and awareness for food insecurity in our area. \nWhoop Whoop! 🤠🎸 \n 
URL:https://donnaandthemystics.com/event/2025-tomato-fest/
LOCATION:Finger Lakes Mall\, 1579 Clark Street Rd\, Auburn\, NY\, 13022\, United States
CATEGORIES:Local Gig
ATTACH;FMTTYPE=image/jpeg:https://donnaandthemystics.com/wp-content/uploads/2025/03/Live-Music.jpg
END:VEVENT
BEGIN:VEVENT
DTSTART;TZID=America/New_York:20250831T150000
DTEND;TZID=America/New_York:20250831T200000
DTSTAMP:20260422T191225
CREATED:20250428T133256Z
LAST-MODIFIED:20250428T133308Z
UID:1088-1756652400-1756670400@donnaandthemystics.com
SUMMARY:The Outpost End of Year BBQ
DESCRIPTION:Get ready to kick up your boots and sing along with Donna and the Mystics! 🎶 \n🔥 From rockin’ country hits to high-energy classics\, we’re bringing the party to a location near you! Grab your friends\, grab a drink\, and let’s make some memories. \nWhoop Whoop! 🤠🎸 \n 
URL:https://donnaandthemystics.com/event/outpost-end-of-year-bbq/
LOCATION:The Outpost\, 2706 NY-220\, Oxford\, NY\, 13830\, United States
CATEGORIES:Local Gig
ATTACH;FMTTYPE=image/jpeg:https://donnaandthemystics.com/wp-content/uploads/2025/03/Live-Music.jpg
END:VEVENT
BEGIN:VEVENT
DTSTART;TZID=America/New_York:20250830T180000
DTEND;TZID=America/New_York:20250830T210000
DTSTAMP:20260422T191225
CREATED:20250428T132657Z
LAST-MODIFIED:20250428T132809Z
UID:1084-1756576800-1756587600@donnaandthemystics.com
SUMMARY:Bass Lake Resort Campground
DESCRIPTION:Get ready to kick up your boots and sing along with Donna and the Mystics! 🎶 \n🔥 From rockin’ country hits to high-energy classics\, we’re bringing the party to a location near you! Grab your friends\, grab a drink\, and let’s make some memories. \nWhoop Whoop! 🤠🎸
URL:https://donnaandthemystics.com/event/bass-lake-resort-campground/
LOCATION:Bass Lake Resort Campground\, 132 Crim Road\, Parish\, NY\, United States
CATEGORIES:Local Gig
ATTACH;FMTTYPE=image/jpeg:https://donnaandthemystics.com/wp-content/uploads/2025/03/Live-Music.jpg
END:VEVENT
BEGIN:VEVENT
DTSTART;TZID=America/New_York:20250823T190000
DTEND;TZID=America/New_York:20250823T220000
DTSTAMP:20260422T191225
CREATED:20250428T132446Z
LAST-MODIFIED:20250428T132446Z
UID:1082-1755975600-1755986400@donnaandthemystics.com
SUMMARY:Waterloo Sportsman's Club
DESCRIPTION:Get ready to kick up your boots and sing along with Donna and the Mystics! 🎶 \n🔥 From rockin’ country hits to high-energy classics\, we’re bringing the party to a location near you! Grab your friends\, grab a drink\, and let’s make some memories. \nWhoop Whoop! 🤠🎸
URL:https://donnaandthemystics.com/event/waterloo-sportsmans-club-5/
LOCATION:Waterloo Sportsman’s Club\, 2654 Edwards Rd.\, Waterloo\, NY\, 13165\, United States
CATEGORIES:Local Gig
ATTACH;FMTTYPE=image/jpeg:https://donnaandthemystics.com/wp-content/uploads/2025/03/Live-Music.jpg
END:VEVENT
BEGIN:VEVENT
DTSTART;TZID=America/New_York:20250816T203000
DTEND;TZID=America/New_York:20250816T223000
DTSTAMP:20260422T191225
CREATED:20250428T132313Z
LAST-MODIFIED:20250428T132313Z
UID:1079-1755376200-1755383400@donnaandthemystics.com
SUMMARY:River Forest Campground
DESCRIPTION:Get ready to kick up your boots and sing along with Donna and the Mystics! 🎶 \n🔥 From rockin’ country hits to high-energy classics\, we’re bringing the party to a location near you! Grab your friends\, grab a drink\, and let’s make some memories. \nWhoop Whoop! 🤠🎸
URL:https://donnaandthemystics.com/event/river-forest-campground/
LOCATION:River Forest Campground\, 9439 Riverforest Rd.\, Weedsport\, NY\, United States
CATEGORIES:Local Gig
ATTACH;FMTTYPE=image/jpeg:https://donnaandthemystics.com/wp-content/uploads/2025/03/Live-Music.jpg
END:VEVENT
BEGIN:VEVENT
DTSTART;TZID=America/New_York:20250810T150000
DTEND;TZID=America/New_York:20250810T170000
DTSTAMP:20260422T191225
CREATED:20250428T131452Z
LAST-MODIFIED:20250428T131452Z
UID:1074-1754838000-1754845200@donnaandthemystics.com
SUMMARY:2025 Brandt Park Summer Concert Series
DESCRIPTION:Come and join the Brand Park Beautification Committee for the 2025 Summer Concert Series in Brand Park from 3 to 5pm. \nDon’t forget your lawn chair and enjoy live free music with friends. \nThe Brand Park Hot Dog Cart and Kool Treats Ice Cream will also be on hand. Handicap accessible.
URL:https://donnaandthemystics.com/event/2025-brandt-park-summer-concert-series/
LOCATION:Brandt Park\, Elmira\, NY\, United States
CATEGORIES:Local Gig
ATTACH;FMTTYPE=image/jpeg:https://donnaandthemystics.com/wp-content/uploads/2025/03/Live-Music.jpg
END:VEVENT
BEGIN:VEVENT
DTSTART;TZID=America/New_York:20250806T190000
DTEND;TZID=America/New_York:20250806T220000
DTSTAMP:20260422T191225
CREATED:20250428T130452Z
LAST-MODIFIED:20250428T131139Z
UID:1069-1754506800-1754517600@donnaandthemystics.com
SUMMARY:65th Annual Pageant of Steam
DESCRIPTION:Get ready to kick up your boots and sing along with Donna and the Mystics! 🎶 \n🔥 From rockin’ country hits to high-energy classics\, we’re bringing the party to a location near you! Grab your friends\, grab a drink\, and let’s make some memories. \nWhoop Whoop! 🤠🎸
URL:https://donnaandthemystics.com/event/65th-annual-pageant-of-steam/
LOCATION:Steam Pageant\, 3349 Gehan Rd.\, Canandaigua\, NY\, United States
CATEGORIES:Local Gig
ATTACH;FMTTYPE=image/jpeg:https://donnaandthemystics.com/wp-content/uploads/2025/03/Live-Music.jpg
END:VEVENT
BEGIN:VEVENT
DTSTART;TZID=America/New_York:20250805T190000
DTEND;TZID=America/New_York:20250805T210000
DTSTAMP:20260422T191225
CREATED:20250428T130039Z
LAST-MODIFIED:20250428T130039Z
UID:1066-1754420400-1754427600@donnaandthemystics.com
SUMMARY:Lafayette Park Tuesday Night Concert
DESCRIPTION:Bring your dancing shoes and enjoy Rockin’ Country by the returning musicians Donna & The Mystics.\nCome pull up a lawn chair and enjoy the Tuesday Night Concert Series at Lafayette Park Watkins Glen. This is a FREE concert series to the public!Arrive early and enjoy the farmers market at the park from 4p to 8p. Also new this year\, there will be food and ice cream trucks at the park!Coffee will be available from Seneca Sunrise Coffee (while supplies last).
URL:https://donnaandthemystics.com/event/lafayette-park-tuesday-night-concert/
LOCATION:Lafayette Park\, Watkins Glen\, NY\, United States
CATEGORIES:Local Gig
ATTACH;FMTTYPE=image/jpeg:https://donnaandthemystics.com/wp-content/uploads/2025/03/Live-Music.jpg
END:VEVENT
BEGIN:VEVENT
DTSTART;TZID=America/New_York:20250802T190000
DTEND;TZID=America/New_York:20250802T220000
DTSTAMP:20260422T191225
CREATED:20250428T125407Z
LAST-MODIFIED:20250428T125442Z
UID:1062-1754161200-1754172000@donnaandthemystics.com
SUMMARY:Holiday Hill Campground
DESCRIPTION:Get ready to kick up your boots and sing along with Donna and the Mystics! 🎶 \n🔥 From rockin’ country hits to high-energy classics\, we’re bringing the party to a location near you! Grab your friends\, grab a drink\, and let’s make some memories. \nWhoop Whoop! 🤠🎸 \n 
URL:https://donnaandthemystics.com/event/holiday-hill-campground/
LOCATION:Holiday Hill Campground\, 7818 Marvin Hill Rd\, Springwater\, NY\, 14560\, United States
CATEGORIES:Local Gig
ATTACH;FMTTYPE=image/jpeg:https://donnaandthemystics.com/wp-content/uploads/2025/03/Live-Music.jpg
END:VEVENT
BEGIN:VEVENT
DTSTART;TZID=America/New_York:20250801T180000
DTEND;TZID=America/New_York:20250801T203000
DTSTAMP:20260422T191225
CREATED:20250428T125129Z
LAST-MODIFIED:20250428T125129Z
UID:1058-1754071200-1754080200@donnaandthemystics.com
SUMMARY:Wheat Harvest Fest
DESCRIPTION:Get ready to kick up your boots and sing along with Donna and the Mystics! 🎶 \n🔥 From rockin’ country hits to high-energy classics\, we’re bringing the party to a location near you! Grab your friends\, grab a drink\, and let’s make some memories. \nWhoop Whoop! 🤠🎸 \n 
URL:https://donnaandthemystics.com/event/wheat-harvest-fest/
LOCATION:Harvest Fest in King Ferry\, King Ferry\, NY\, United States
CATEGORIES:Local Gig
ATTACH;FMTTYPE=image/jpeg:https://donnaandthemystics.com/wp-content/uploads/2025/03/Live-Music.jpg
END:VEVENT
BEGIN:VEVENT
DTSTART;TZID=America/New_York:20250719T193000
DTEND;TZID=America/New_York:20250719T230000
DTSTAMP:20260422T191225
CREATED:20250428T124341Z
LAST-MODIFIED:20250428T124604Z
UID:1053-1752953400-1752966000@donnaandthemystics.com
SUMMARY:Moravia Fair
DESCRIPTION:Get ready to kick up your boots and sing along with Donna and the Mystics! 🎶 Other bands to be announced. \n🔥 From rockin’ country hits to high-energy classics\, we’re bringing the party to a location near you! Grab your friends\, grab a drink\, and let’s make some memories. \nWhoop Whoop! 🤠🎸 \n 
URL:https://donnaandthemystics.com/event/moravia-fair/
LOCATION:Moravia Fair\, Moravia\, NY\, 13118\, United States
CATEGORIES:Local Gig
ATTACH;FMTTYPE=image/jpeg:https://donnaandthemystics.com/wp-content/uploads/2025/03/Live-Music.jpg
END:VEVENT
BEGIN:VEVENT
DTSTART;TZID=America/New_York:20250718T190000
DTEND;TZID=America/New_York:20250718T220000
DTSTAMP:20260422T191225
CREATED:20250428T124111Z
LAST-MODIFIED:20250428T131056Z
UID:1050-1752865200-1752876000@donnaandthemystics.com
SUMMARY:Seneca County Fair
DESCRIPTION:Get ready to kick up your boots and sing along with Donna and the Mystics! 🎶 \n🔥 From rockin’ country hits to high-energy classics\, we’re bringing the party to a location near you! Grab your friends\, grab a drink\, and let’s make some memories. \nWhoop Whoop! 🤠🎸 \n 
URL:https://donnaandthemystics.com/event/seneca-county-fair/
LOCATION:Seneca County Fairgrounds\, 100 Swift St.\, Waterloo\, NY\, 13165\, United States
CATEGORIES:Local Gig
ATTACH;FMTTYPE=image/jpeg:https://donnaandthemystics.com/wp-content/uploads/2025/03/Live-Music.jpg
END:VEVENT
BEGIN:VEVENT
DTSTART;TZID=America/New_York:20250629T140000
DTEND;TZID=America/New_York:20250629T180000
DTSTAMP:20260422T191225
CREATED:20250425T143420Z
LAST-MODIFIED:20250428T122054Z
UID:1036-1751205600-1751220000@donnaandthemystics.com
SUMMARY:Classic Country Sunday w/ Debbie Denman
DESCRIPTION:Dance to your Favorite Classic Country Hits\nwith Special Guest Debbie Denman\n  \nFans and followers have been asking\, so here you go. Donna & the Mystics will be playing your favorites at The Golden Horseshoe.  Some square dances will be called\, too. \nWe’ll see you there!  Whoop Whoop!!! \n  \nFood and refreshments will be available.  (No coolers are allowed.)\n$8 per person – cash at the door
URL:https://donnaandthemystics.com/event/classic-country-sunday-7/
LOCATION:The Golden Horseshoe\, 2068 Dumplin Hill Rd.\, Moravia\, NY\, 13118\, United States
CATEGORIES:Local Gig
ATTACH;FMTTYPE=image/png:https://donnaandthemystics.com/wp-content/uploads/2025/04/Classic-Country-Sunday.png
END:VEVENT
BEGIN:VEVENT
DTSTART;TZID=America/New_York:20250628T120000
DTEND;TZID=America/New_York:20250628T150000
DTSTAMP:20260422T191225
CREATED:20250428T123943Z
LAST-MODIFIED:20250428T123943Z
UID:1047-1751112000-1751122800@donnaandthemystics.com
SUMMARY:Stephen & Michelle DeWall Party
DESCRIPTION:Get ready to kick up your boots and sing along with Donna and the Mystics! 🎶 Other bands to be announced. \n🔥 From rockin’ country hits to high-energy classics\, we’re bringing the party to a location near you! Grab your friends\, grab a drink\, and let’s make some memories. \nWhoop Whoop! 🤠🎸 \n 
URL:https://donnaandthemystics.com/event/stephen-michelle-dewall-party/
LOCATION:Seneca County Fairgrounds\, 100 Swift St.\, Waterloo\, NY\, 13165\, United States
CATEGORIES:Local Gig
ATTACH;FMTTYPE=image/jpeg:https://donnaandthemystics.com/wp-content/uploads/2025/03/Live-Music.jpg
END:VEVENT
BEGIN:VEVENT
DTSTART;TZID=America/New_York:20250622T140000
DTEND;TZID=America/New_York:20250622T180000
DTSTAMP:20260422T191225
CREATED:20250425T143320Z
LAST-MODIFIED:20250428T122024Z
UID:1034-1750600800-1750615200@donnaandthemystics.com
SUMMARY:Classic Country Sunday w/ Pamela Jean
DESCRIPTION:Dance to your Favorite Classic Country Hits\nwith Special Guest Pamela Jean (Mark’s Sister)\n  \nFans and followers have been asking\, so here you go. Donna & the Mystics will be playing your favorites at The Golden Horseshoe.  Some square dances will be called\, too. \nWe’ll see you there!  Whoop Whoop!!! \n  \nFood and refreshments will be available.  (No coolers are allowed.)\n$8 per person – cash at the door
URL:https://donnaandthemystics.com/event/classic-country-sunday-6/
LOCATION:The Golden Horseshoe\, 2068 Dumplin Hill Rd.\, Moravia\, NY\, 13118\, United States
CATEGORIES:Local Gig
ATTACH;FMTTYPE=image/png:https://donnaandthemystics.com/wp-content/uploads/2025/04/Classic-Country-Sunday.png
END:VEVENT
BEGIN:VEVENT
DTSTART;TZID=America/New_York:20250615T140000
DTEND;TZID=America/New_York:20250615T180000
DTSTAMP:20260422T191225
CREATED:20250425T143224Z
LAST-MODIFIED:20250425T143224Z
UID:1032-1749996000-1750010400@donnaandthemystics.com
SUMMARY:Classic Country Sunday
DESCRIPTION:Dance to your Favorite Classic Country Hits\nAnd do some Square Dancing\, too!\n  \nFans and followers have been asking\, so here you go. Donna & the Mystics will be playing your favorites at The Golden Horseshoe.  Some square dances will be called\, too. \nWe’ll see you there!  Whoop Whoop!!! \n  \nFood and refreshments will be available.  (No coolers are allowed.)\n$8 per person – cash at the door
URL:https://donnaandthemystics.com/event/classic-country-sunday-5/
LOCATION:The Golden Horseshoe\, 2068 Dumplin Hill Rd.\, Moravia\, NY\, 13118\, United States
CATEGORIES:Local Gig
ATTACH;FMTTYPE=image/png:https://donnaandthemystics.com/wp-content/uploads/2025/04/Classic-Country-Sunday.png
END:VEVENT
BEGIN:VEVENT
DTSTART;TZID=America/New_York:20250614T190000
DTEND;TZID=America/New_York:20250614T220000
DTSTAMP:20260422T191225
CREATED:20250428T123552Z
LAST-MODIFIED:20250428T123552Z
UID:1045-1749927600-1749938400@donnaandthemystics.com
SUMMARY:Waterloo Sportsman's Club
DESCRIPTION:Get ready to kick up your boots and sing along with Donna and the Mystics! 🎶 \n🔥 From rockin’ country hits to high-energy classics\, we’re bringing the party to a location near you! Grab your friends\, grab a drink\, and let’s make some memories. \nWhoop Whoop! 🤠🎸 \n 
URL:https://donnaandthemystics.com/event/waterloo-sportsmans-club-4/
LOCATION:Waterloo Sportsman’s Club\, 2654 Edwards Rd.\, Waterloo\, NY\, 13165\, United States
CATEGORIES:Local Gig
ATTACH;FMTTYPE=image/jpeg:https://donnaandthemystics.com/wp-content/uploads/2025/03/Live-Music.jpg
END:VEVENT
BEGIN:VEVENT
DTSTART;TZID=America/New_York:20250613T190000
DTEND;TZID=America/New_York:20250613T210000
DTSTAMP:20260422T191225
CREATED:20250428T123402Z
LAST-MODIFIED:20250428T123402Z
UID:1043-1749841200-1749848400@donnaandthemystics.com
SUMMARY:Summer Music Series at Newark Valley Train Depot
DESCRIPTION:Bring your lawn chair and get ready to kick up your boots and sing along with Donna and the Mystics! 🎶 \n🔥 From rockin’ country hits to high-energy classics\, we’re bringing the party to a location near you! Grab your friends\, grab a drink\, and let’s make some memories. \nWhoop Whoop! 🤠🎸 \n 
URL:https://donnaandthemystics.com/event/summer-music-series-at-newark-valley-train-depot/
LOCATION:Newark Valley Train Depot Museum\, 109 Whig Street\, Newark Valley\, NY\, 13811\, United States
CATEGORIES:Local Gig
ATTACH;FMTTYPE=image/jpeg:https://donnaandthemystics.com/wp-content/uploads/2025/03/Live-Music.jpg
END:VEVENT
BEGIN:VEVENT
DTSTART;TZID=America/New_York:20250608T140000
DTEND;TZID=America/New_York:20250608T180000
DTSTAMP:20260422T191225
CREATED:20250425T143133Z
LAST-MODIFIED:20250606T171705Z
UID:1030-1749391200-1749405600@donnaandthemystics.com
SUMMARY:Classic Country Sunday w/ Terry Grimes
DESCRIPTION:Dance to your Favorite Classic Country Hits\nwith Special Guest Terry Grimes\n  \nFans and followers have been asking\, so here you go. Terry Grimes will be playing favorites at The Golden Horseshoe. \nWe’ll see you there!  Whoop Whoop!!! \n  \nFood and refreshments will be available.  (No coolers are allowed.)\n$8 per person – cash at the door
URL:https://donnaandthemystics.com/event/classic-country-sunday-4/
LOCATION:The Golden Horseshoe\, 2068 Dumplin Hill Rd.\, Moravia\, NY\, 13118\, United States
CATEGORIES:Local Gig
ATTACH;FMTTYPE=image/png:https://donnaandthemystics.com/wp-content/uploads/2025/04/Classic-Country-Sunday.png
END:VEVENT
BEGIN:VEVENT
DTSTART;TZID=America/New_York:20250601T140000
DTEND;TZID=America/New_York:20250601T180000
DTSTAMP:20260422T191225
CREATED:20250425T143039Z
LAST-MODIFIED:20250428T121901Z
UID:1028-1748786400-1748800800@donnaandthemystics.com
SUMMARY:Classic Country Sunday w/ Ron Tratt
DESCRIPTION:Dance to your Favorite Classic Country Hits\nwith Special Guest Ron Tratt (Donna’s Dad) on Lead Guitar!\n  \nFans and followers have been asking\, so here you go. Donna & the Mystics will be playing your favorites at The Golden Horseshoe.  Some square dances will be called\, too. \nWe’ll see you there!  Whoop Whoop!!! \n  \nFood and refreshments will be available.  (No coolers are allowed.)\n$8 per person – cash at the door
URL:https://donnaandthemystics.com/event/classic-country-sunday-3/
LOCATION:The Golden Horseshoe\, 2068 Dumplin Hill Rd.\, Moravia\, NY\, 13118\, United States
CATEGORIES:Local Gig
ATTACH;FMTTYPE=image/png:https://donnaandthemystics.com/wp-content/uploads/2025/04/Classic-Country-Sunday.png
END:VEVENT
BEGIN:VEVENT
DTSTART;TZID=America/New_York:20250525T190000
DTEND;TZID=America/New_York:20250525T213000
DTSTAMP:20260422T191225
CREATED:20250324T164936Z
LAST-MODIFIED:20250324T164936Z
UID:814-1748199600-1748208600@donnaandthemystics.com
SUMMARY:Pine Creek Campground
DESCRIPTION:Get ready to kick up your boots and sing along with Donna and the Mystics! 🎶 \n🔥 From rockin’ country hits to high-energy classics\, we’re bringing the party to a location near you! Grab your friends\, grab a drink\, and let’s make some memories. \nWhoop Whoop! 🤠🎸
URL:https://donnaandthemystics.com/event/pine-creek-campground/
LOCATION:PineCreek Campground\, 28 Rockwell Rd.\, Newfield\, NY\, 14867\, United States
CATEGORIES:Local Gig
ATTACH;FMTTYPE=image/jpeg:https://donnaandthemystics.com/wp-content/uploads/2025/03/Live-Music.jpg
END:VEVENT
BEGIN:VEVENT
DTSTART;TZID=America/New_York:20250524T190000
DTEND;TZID=America/New_York:20250524T220000
DTSTAMP:20260422T191225
CREATED:20250324T164842Z
LAST-MODIFIED:20250324T164842Z
UID:812-1748113200-1748124000@donnaandthemystics.com
SUMMARY:Waterloo Sportsman's Club
DESCRIPTION:Get ready to kick up your boots and sing along with Donna and the Mystics! 🎶 \n🔥 From rockin’ country hits to high-energy classics\, we’re bringing the party to a location near you! Grab your friends\, grab a drink\, and let’s make some memories. \nWhoop Whoop! 🤠🎸
URL:https://donnaandthemystics.com/event/waterloo-sportsmans-club-3/
LOCATION:Waterloo Sportsman’s Club\, 2654 Edwards Rd.\, Waterloo\, NY\, 13165\, United States
CATEGORIES:Local Gig
ATTACH;FMTTYPE=image/jpeg:https://donnaandthemystics.com/wp-content/uploads/2025/03/Live-Music.jpg
END:VEVENT
END:VCALENDAR