BEGIN:VCALENDAR
VERSION:2.0
PRODID:-// - ECPv6.15.20//NONSGML v1.0//EN
CALSCALE:GREGORIAN
METHOD:PUBLISH
X-ORIGINAL-URL:https://donnaandthemystics.com
X-WR-CALDESC:Events for 
REFRESH-INTERVAL;VALUE=DURATION:PT1H
X-Robots-Tag:noindex
X-PUBLISHED-TTL:PT1H
BEGIN:VTIMEZONE
TZID:America/New_York
BEGIN:DAYLIGHT
TZOFFSETFROM:-0500
TZOFFSETTO:-0400
TZNAME:EDT
DTSTART:20240310T070000
END:DAYLIGHT
BEGIN:STANDARD
TZOFFSETFROM:-0400
TZOFFSETTO:-0500
TZNAME:EST
DTSTART:20241103T060000
END:STANDARD
BEGIN:DAYLIGHT
TZOFFSETFROM:-0500
TZOFFSETTO:-0400
TZNAME:EDT
DTSTART:20250309T070000
END:DAYLIGHT
BEGIN:STANDARD
TZOFFSETFROM:-0400
TZOFFSETTO:-0500
TZNAME:EST
DTSTART:20251102T060000
END:STANDARD
BEGIN:DAYLIGHT
TZOFFSETFROM:-0500
TZOFFSETTO:-0400
TZNAME:EDT
DTSTART:20260308T070000
END:DAYLIGHT
BEGIN:STANDARD
TZOFFSETFROM:-0400
TZOFFSETTO:-0500
TZNAME:EST
DTSTART:20261101T060000
END:STANDARD
END:VTIMEZONE
BEGIN:VEVENT
DTSTART;VALUE=DATE:20251110
DTEND;VALUE=DATE:20251118
DTSTAMP:20260422T214014
CREATED:20250428T134937Z
LAST-MODIFIED:20250428T134937Z
UID:1098-1762732800-1763423999@donnaandthemystics.com
SUMMARY:Country Christmas in Branson\, MS
DESCRIPTION:Join Us in Branson\, Missouri\nChristmas is honored with true holiday magic in Branson with elaborate holiday light displays and endless holiday entertainment! \n \n8 PREMIUM CHRISTMAS SHOWS ! \n\nThe Haygoods\nClay Cooper\nHot Rods & High Heels\nDean Z – The Ultimate Elvis\nDaniel O’Donnell\nPresleys’ Country Jubilee\nBranson Belle Showboat\nLunch Cruise\nDolly Parton’s Christmas\nDixie Stampede Dinner Show\n\nAlso included: \n\nBeautiful Christmas Lights\n6 Breakfasts\, 1 Lunch\, and 4 Dinners\nRound-trip deluxe charter motorcoach transportation (including driver tip)\nAccommodations for 4 nights in Branson at the Thousand Hills Resort and 2 nights en route\nLuggage handling\, all taxes & meal gratuities\nFun & games\, fully escorted throughout trip\n\nProgram fee includes full-time tour leader\, driver expenses & gratuities\, luggage handling\, and 3 dinners. \nSPACE IS LIMITED AND RESERVATIONS WILL BE TAKEN ON A FIRST-COME FIRST-SERVED BASIS. \nPrice per person:\n$1\,795 double   $1\,695 triple   $2\,145 single \nPick-ups: Batavia/Pembroke\, Auburn\, and Cortland\nTo Register: Submit a $100.00 per person deposit and Overnight Tour Registration Form to:  Bus America Group Tours\, 668 Phillips Road\, Victor\, NY 14564 \n(Checks payable to ‘Bus America Group Tours’ or pay by credit card online or by phone.) \nBalance Due: in 3 installments on Aug. 1st\, Sept. 1st and Oct. 1st \nFor More Info: \nDonna & Mark Minnoe:  Tel. (315) 224-9085 \nBus America Group Tours: Tel. (585) 697-3590 \ninfo@grouptoursinc.com\nwww.grouptoursinc.com \n 
URL:https://donnaandthemystics.com/event/country-christmas-in-branson-ms/
CATEGORIES:Tour
ATTACH;FMTTYPE=image/jpeg:https://donnaandthemystics.com/wp-content/uploads/2025/03/On-the-Road.jpg
END:VEVENT
BEGIN:VEVENT
DTSTART;VALUE=DATE:20250921
DTEND;VALUE=DATE:20250928
DTSTAMP:20260422T214014
CREATED:20250327T162646Z
LAST-MODIFIED:20250327T162934Z
UID:816-1758412800-1759017599@donnaandthemystics.com
SUMMARY:Dollywood's Harvest Festival
DESCRIPTION:Join Us in Pigeon Forge and Gatlinburg\, TN for a week in the Smokie Mountains!\n \nFall glows brightest at Dollywood\, where autumn days burst to life in vivid color & nights glimmer with illuminating surprises. Explore among enchanting Hoot Owl Hollow\, hear a mystical melody from Dolly’s giant\, glowing guitar\, and gaze up at a towering 40-foot pumpkin tree exclusively during Great Pumpkin LumiNights. By day\, celebrate the season of many colors with the return of Dollywood’s Harvest Festival where dozens of talented musicians perform Southern  gospel\, country & bluegrass melodies. \n\nDeluxe chartered motorcoach transportation including driver expenses and gratuities.\nAccommodations (including breakfast) for four nights in Pigeon Forge\, Tennessee and two nights en route.\nDay of fun and excitement at the Dollywood Harvest Festival\, where they celebrate the best of life as they\nlight up the Smokies with rides\, slides\, live entertainment\, food\, and laughter !\nHatfield & McCoy Dinner Feud (longest running feud in history) with an all-you-can-eat Southern homestyle feast.\nPigeon Forge Redneck Comedy Bus Tour – laugh your way through the Smokies & get Redneck-Certified.\nOber Aerial Tram ride up Ober Mountain with breath-taking panoramic views of the Smoky Mountains.\nDolly Parton’s Dixie Stampede with thrilling horse riding stunts\, phenomenal music & 4-course dinner feast.\nSelf-guided tour of the Hollywood Star Cars Museum\, featuring the best Hollywood movie and TV cars.\nTour and Tasting at Ole Smoky Moonshine Distillery in Gatlinburg !\nFree time to enjoy the town of Gatlinburg (shopping at ‘The Village Shops’) and lunch on your own. Optional Whiskey Tasting (at your own expense) at the Ole Smoky Barrel House Distillery.\nCountry Tonite Show in Pigeon Forge\, a fast-paced show with classic country hits\, comedy\, gospel & patriotism.\nSouvenir shopping at The Incredible Christmas Place with a beautiful courtyard & Bavarian-style village shops.\nA full-time tour manager\, luggage handling\, and all taxes & tips (including driver & tour manager tips).\n\nProgram fee includes full-time tour leader\, driver expenses & gratuities\, luggage handling\, and 3 dinners. \nSPACE IS LIMITED AND RESERVATIONS WILL BE TAKEN ON A FIRST-COME FIRST-SERVED BASIS. \nPrice per person:\n$1\,499 double   $1\,399 triple   $1\,949 single \nPick-ups: Batavia/Pembroke\, Canandaigua\, Auburn\, and Cortland\nTo Register: Submit a $100.00 per person deposit and Overnight Tour Registration Form to:  Bus America Group Tours\, 668 Phillips Road\, Victor\, NY 14564 \n(Checks payable to ‘Bus America Group Tours’ or pay by credit card online or by phone.) \nBalance Due: Travelers will be invoiced for the balance in installments\, with balance due October 15th. \nFor More Info: \nDonna & Mark Minnoe:  Tel. (315) 224-9085 \nBus America Group Tours: Tel. (585) 697-3590 \ninfo@grouptoursinc.com\nwww.grouptoursinc.com \n 
URL:https://donnaandthemystics.com/event/dollywoods-harvest-festival/
CATEGORIES:Tour
ATTACH;FMTTYPE=image/png:https://donnaandthemystics.com/wp-content/uploads/2025/03/Dollywood.png
END:VEVENT
BEGIN:VEVENT
DTSTART;VALUE=DATE:20250811
DTEND;VALUE=DATE:20250814
DTSTAMP:20260422T214014
CREATED:20250428T131944Z
LAST-MODIFIED:20250428T131944Z
UID:1077-1754870400-1755129599@donnaandthemystics.com
SUMMARY:Atlantic City Bus Trip
DESCRIPTION:Come along with Donna Minnoe to Pennsylvania Dutch Country for 3 days of music\, theater and fun! \nAccommodations at Bally’s Casino on the Boardwalk \nWith overnights and casino & meal bonus at the landmark BALLLY’S CASINO\, your days are free to do as you please! Enjoy world-class dining at Celebrity-chef restaurants\, high-end retail and outlet shopping at Tanger Outlets and The Walk\, or gaming at other world-renowned casinos such as Ocean Casino Resort\, Tropicana Atlantic City\, and the Hard Rock Hotel & Casino! Also enjoy the world’s first boardwalk (built in 1870) with its numerous shops\, ocean views\, and amusement parks\, or time at Steel Pier\, an amusement park with carnival games\, rides\, and treats. And\, of course\, there’s the beach!! \nContact Bus America Group Tours at (252) 697-3590 or Donna Minnoe at (315) 224-9085 for more information and to sign up for the trip.
URL:https://donnaandthemystics.com/event/atlantic-city-bus-trip/
CATEGORIES:Tour
ATTACH;FMTTYPE=image/jpeg:https://donnaandthemystics.com/wp-content/uploads/2025/03/On-the-Road.jpg
END:VEVENT
BEGIN:VEVENT
DTSTART;VALUE=DATE:20250507
DTEND;VALUE=DATE:20250515
DTSTAMP:20260422T214014
CREATED:20250324T164706Z
LAST-MODIFIED:20250324T164706Z
UID:810-1746576000-1747267199@donnaandthemystics.com
SUMMARY:Nashville & Memphis\, TN\, Bus Trip
DESCRIPTION:Come along with Donna Minnoe to the Country Music Capital for a vacation full of music\, entertainment and fun! \nYou’ll visit: \n\nThe Grand Ole Opry\nHonkey Tonk Highway\nElvis’ Graceland\nSun Studio\nand much more\n\nContact Bus America Group Tours at (252) 697-3590 or Donna Minnoe at (315) 224-9085 for more information and to sign up for the trip.
URL:https://donnaandthemystics.com/event/nashville-memphis-tn-bus-trip/
CATEGORIES:Tour
ATTACH;FMTTYPE=image/jpeg:https://donnaandthemystics.com/wp-content/uploads/2025/03/On-the-Road.jpg
END:VEVENT
BEGIN:VEVENT
DTSTART;VALUE=DATE:20250427
DTEND;VALUE=DATE:20250430
DTSTAMP:20260422T214014
CREATED:20250324T164255Z
LAST-MODIFIED:20250324T164255Z
UID:807-1745712000-1745971199@donnaandthemystics.com
SUMMARY:Pennsylvania Dutch Country Bus Tour
DESCRIPTION:Come along with Donna Minnoe to Pennsylvania Dutch Country for a weekend full of music\, theater and fun! \nYou’ll see: \n\n“Noah” at the Sight and Sound Millennium Theatre\n“The Lovin’ Spoonful” and “The Grass Roots” at the American Music Theater\n\nContact Bus America Group Tours at (252) 697-3590 or Donna Minnoe at (315) 224-9085 for more information and to sign up for the trip.
URL:https://donnaandthemystics.com/event/pennsylvania-dutch-country-bus-tour/
CATEGORIES:Tour
ATTACH;FMTTYPE=image/jpeg:https://donnaandthemystics.com/wp-content/uploads/2025/03/On-the-Road.jpg
END:VEVENT
END:VCALENDAR