BEGIN:VCALENDAR
VERSION:2.0
PRODID:-// - ECPv6.15.20//NONSGML v1.0//EN
CALSCALE:GREGORIAN
METHOD:PUBLISH
X-ORIGINAL-URL:https://donnaandthemystics.com
X-WR-CALDESC:Events for 
REFRESH-INTERVAL;VALUE=DURATION:PT1H
X-Robots-Tag:noindex
X-PUBLISHED-TTL:PT1H
BEGIN:VTIMEZONE
TZID:America/New_York
BEGIN:DAYLIGHT
TZOFFSETFROM:-0500
TZOFFSETTO:-0400
TZNAME:EDT
DTSTART:20250309T070000
END:DAYLIGHT
BEGIN:STANDARD
TZOFFSETFROM:-0400
TZOFFSETTO:-0500
TZNAME:EST
DTSTART:20251102T060000
END:STANDARD
BEGIN:DAYLIGHT
TZOFFSETFROM:-0500
TZOFFSETTO:-0400
TZNAME:EDT
DTSTART:20260308T070000
END:DAYLIGHT
BEGIN:STANDARD
TZOFFSETFROM:-0400
TZOFFSETTO:-0500
TZNAME:EST
DTSTART:20261101T060000
END:STANDARD
BEGIN:DAYLIGHT
TZOFFSETFROM:-0500
TZOFFSETTO:-0400
TZNAME:EDT
DTSTART:20270314T070000
END:DAYLIGHT
BEGIN:STANDARD
TZOFFSETFROM:-0400
TZOFFSETTO:-0500
TZNAME:EST
DTSTART:20271107T060000
END:STANDARD
END:VTIMEZONE
BEGIN:VEVENT
DTSTART;VALUE=DATE:20260427
DTEND;VALUE=DATE:20260430
DTSTAMP:20260422T184508
CREATED:20260210T174857Z
LAST-MODIFIED:20260210T174857Z
UID:1200-1777248000-1777507199@donnaandthemystics.com
SUMMARY:Pennsylvania Dutch Country: Joshua & Oklahoma
DESCRIPTION:Guided by Donna & Mark Minnoe | Presented by Bus America Group Tours \nJoin Donna and Mark Minnoe for a delightful three-day getaway to Pennsylvania Dutch Country\, filled with inspiring theater\, classic Americana\, scenic countryside\, and unforgettable experiences — all handled with the comfort and care Bus America is known for. \nThis thoughtfully planned trip features balcony seating for the breathtaking production of Joshua at Sight & Sound’s Millennium Theatre\, where biblical storytelling comes to life through powerful music\, stunning visuals\, and moving performances. Guests will also enjoy the beloved American musical Oklahoma! at the Dutch Apple Dinner Theatre\, complete with a bountiful buffet dinner and a score packed with timeless favorites. \nAlong the way\, relax and take in the beauty of Lancaster County with a historic steam train ride on the Strasburg Railroad\, travel through picturesque Amish farmland\, and savor an authentic family-style Amish dinner featuring hearty\, homegrown recipes passed down through generations. Sweet treats await at the Turkey Hill Experience\, where you’ll sample favorites and even create your own ice cream flavor in the Taste Lab. \nYour home for the trip is the charming Fulton Steamboat Inn\, a unique boutique hotel offering cozy accommodations\, scenic walking trails\, indoor pool and whirlpool\, and daily hot family-style breakfasts. Time is also built in for shopping and lunch at Hershey Farm\, rounding out a perfectly paced itinerary. \nWith chartered motorcoach transportation\, luggage handling\, gratuities\, and a full-time tour manager included\, all you have to do is sit back and enjoy the journey. Donna and Mark Minnoe will be with you throughout the trip\, adding a personal\, welcoming touch that makes traveling together feel easy and fun. \nThis is a wonderful opportunity to explore\, relax\, and make memories — all while enjoying great shows\, great food\, and great company.
URL:https://donnaandthemystics.com/event/pennsylvania-dutch-country-joshua-oklahoma/
LOCATION:NY
CATEGORIES:Tour
ATTACH;FMTTYPE=image/png:https://donnaandthemystics.com/wp-content/uploads/2026/02/Group-Tours.png
END:VEVENT
BEGIN:VEVENT
DTSTART;TZID=America/New_York:20260502T190000
DTEND;TZID=America/New_York:20260502T220000
DTSTAMP:20260422T184508
CREATED:20260210T165234Z
LAST-MODIFIED:20260210T165234Z
UID:1156-1777748400-1777759200@donnaandthemystics.com
SUMMARY:Donna and the Mystics at Elmira Heights American Legion
DESCRIPTION:Get ready for a boot-stompin’\, dance-floor-fillin’ night with Donna and the Mystics! 🤠🎵This crowd-favorite band brings classic country\, honky-tonk hits\, and feel-good favorites that keep the dance floor packed from the first song to the last. \nThe Elmira Heights American Legion is the perfect spot for a relaxed\, fun night out — great people\, great atmosphere\, and even better music. Whether you’re a longtime fan or seeing the band for the first time\, this is the kind of show that turns first-timers into regulars. \nCome early\, grab a drink\, and let the good times roll!
URL:https://donnaandthemystics.com/event/donna-and-the-mystics-at-elmira-heights-american-legion/
LOCATION:Elmira Heights American Legion\, 236 Prescott Ave\, Elmira Heights\, NY\, 14903\, United States
CATEGORIES:Local Gig
ATTACH;FMTTYPE=image/png:https://donnaandthemystics.com/wp-content/uploads/2026/02/2026-event-header.png
END:VEVENT
BEGIN:VEVENT
DTSTART;TZID=America/New_York:20260509T190000
DTEND;TZID=America/New_York:20260509T220000
DTSTAMP:20260422T184508
CREATED:20260210T170133Z
LAST-MODIFIED:20260218T135521Z
UID:1161-1778353200-1778364000@donnaandthemystics.com
SUMMARY:Donna and the Mystics Live at DelSango's
DESCRIPTION:Kick off your night right with Donna and the Mystics bringing their signature country-rock sound to DelSango’s in McDonough! This is the kind of show made for cold drinks\, loud sing-alongs\, and a dance floor that doesn’t quit. \nExpect a high-energy mix of country favorites\, rock-inspired hits\, and crowd-pleasing songs that keep the party rolling from the first chord to the last encore. Whether you’re out with friends\, grabbing dinner\, or just looking for a reason to stay out a little later\, this is your Friday-night soundtrack. \nCome early\, grab a drink\, and settle in for a night of great music and even better vibes.
URL:https://donnaandthemystics.com/event/donna-and-the-mystics-live-at-brackel-pub-grub/
LOCATION:DelSango’s in McDonough\, McDonough\, New York
CATEGORIES:Local Gig
ATTACH;FMTTYPE=image/png:https://donnaandthemystics.com/wp-content/uploads/2026/02/2026-event-header.png
END:VEVENT
BEGIN:VEVENT
DTSTART;TZID=America/New_York:20260521T110000
DTEND;TZID=America/New_York:20260521T153000
DTSTAMP:20260422T184508
CREATED:20260316T174408Z
LAST-MODIFIED:20260316T175805Z
UID:1211-1779361200-1779377400@donnaandthemystics.com
SUMMARY:Thelma and Matt Chase – Live Country Music & Dinner Show
DESCRIPTION:Doors Open at 11am – Southern Tier Stables\, 2068 Dumplin Hill Rd.\, Moravia\, NY 13118 \nGet your boots on and your yodeling voice warmed up – Thelma and Matt Chase\, affectionately known as Matt and Momma\, are bringing a full afternoon of country magic to Southern Tier Stables! \n \nThese two seasoned performers have been wowing audiences across New York State for years\, delivering the timeless sounds of Patsy Cline\, Hank Williams\, Loretta Lynn\, Kitty Wells\, Ernest Tubbs\, and Johnny Cash. And if you’ve never heard Thelma’s legendary yodel live – well\, today’s your day! \nBut the fun starts long before showtime! Arrive early and explore everything Southern Tier Stables has to offer: take a scenic wagon ride through the countryside\, browse the Mystic Music Museum\, check out the Farmall Tractor Display\, step back in time at the Agricultural Museum featuring a real Stage Coach and Sleighs\, or simply kick back with a game of Bingo while soaking in the beautiful horse pasture views. \nYour ticket includes dinner\, so come hungry\, come ready to two-step\, and come ready for a genuine good time. \n🤠 Bus loads welcome! Call for reservations: (315) 224-9085 or email southerntierstables@gmail.com \nSchedule:\n\nDoors open at 11:00 am\nWagon rides to Turn Back Time begin at 11:15 am\nMuseum displays are available all day\nDinner is served at 12:30 pm\nThelma and Matt Chase Show starts at 1:45 pm
URL:https://donnaandthemystics.com/event/thelma-and-matt-chase-live-country-music-dinner-show/
LOCATION:The Golden Horseshoe\, 2068 Dumplin Hill Rd.\, Moravia\, NY\, 13118\, United States
CATEGORIES:Dinner Show
ATTACH;FMTTYPE=image/png:https://donnaandthemystics.com/wp-content/uploads/2026/02/Thelma-Matt-Chase-1.png
END:VEVENT
BEGIN:VEVENT
DTSTART;TZID=America/New_York:20260524T190000
DTEND;TZID=America/New_York:20260524T220000
DTSTAMP:20260422T184508
CREATED:20260210T170342Z
LAST-MODIFIED:20260210T170342Z
UID:1163-1779649200-1779660000@donnaandthemystics.com
SUMMARY:Pine Creek Campground Country Night
DESCRIPTION:Open to the public — bring a lawn chair! \nCountry music under the stars? Yes please! 🌙🎶Donna and the Mystics are bringing live classic country to Pine Creek Campground for an outdoor evening of great music\, fresh air\, and laid-back fun. \nThis show is open to the public\, so grab your friends\, pack up your lawn chairs\, and come enjoy a night of dancing\, singing along\, and good country vibes. It’s the perfect kickoff to summer — relaxed\, welcoming\, and full of music you know and love. \nPro tip: arrive early\, get comfy\, and stay for the whole show!
URL:https://donnaandthemystics.com/event/pine-creek-campground-country-night/
LOCATION:PineCreek Campground\, 28 Rockwell Rd.\, Newfield\, NY\, 14867\, United States
CATEGORIES:Local Gig
ATTACH;FMTTYPE=image/png:https://donnaandthemystics.com/wp-content/uploads/2026/02/2026-event-header.png
END:VEVENT
BEGIN:VEVENT
DTSTART;TZID=America/New_York:20260530T190000
DTEND;TZID=America/New_York:20260530T220000
DTSTAMP:20260422T184508
CREATED:20260210T170452Z
LAST-MODIFIED:20260210T170452Z
UID:1165-1780167600-1780178400@donnaandthemystics.com
SUMMARY:Donna and the Mystics at Waterloo Sportsman’s Club
DESCRIPTION:When Donna and the Mystics hit the stage at Waterloo Sportsman’s Club\, you know you’re in for a great night of classic country\, dancing\, and down-home fun. This fan-favorite band brings a lively mix of traditional country hits\, honky-tonk favorites\, and crowd-pleasing tunes that keep the dance floor moving all night long. \nThe Sportsman’s Club is a perfect fit for the Mystics’ warm\, high-energy sound — friendly faces\, a relaxed atmosphere\, and music that feels like home. Whether you’re two-stepping with a partner\, singing along from your seat\, or just enjoying a night out with friends\, every show feels like a country get-together with great music at the center. \nDonna and the Mystics return to Waterloo Sportsman’s Club several times throughout the year\, and each show delivers the same thing: great songs\, great dancing\, and a room full of people having a good time. Come early\, stay late\, and be part of a night that keeps folks coming back for more.
URL:https://donnaandthemystics.com/event/donna-and-the-mystics-at-waterloo-sportsmans-club-2/
LOCATION:Waterloo Sportsman’s Club\, 2654 Edwards Rd.\, Waterloo\, NY\, 13165\, United States
CATEGORIES:Local Gig
ATTACH;FMTTYPE=image/png:https://donnaandthemystics.com/wp-content/uploads/2026/02/Waterloo-Club.png
END:VEVENT
BEGIN:VEVENT
DTSTART;TZID=America/New_York:20260606T140000
DTEND;TZID=America/New_York:20260606T153000
DTSTAMP:20260422T184508
CREATED:20260210T171054Z
LAST-MODIFIED:20260210T171308Z
UID:1167-1780754400-1780759800@donnaandthemystics.com
SUMMARY:Benefit Event at CB Campgrounds
DESCRIPTION:Music with a mission! ❤️🎶Join Donna and the Mystics for a special night of live country music supporting an important cause. This feel-good evening brings the community together for great tunes\, dancing\, and a whole lot of heart. \nExpect a lively mix of classic country favorites and dance-floor hits — the kind that make you smile\, sing along\, and stay longer than you planned. Every song helps support a meaningful cause\, so you can have fun and make a difference. \nCome out\, bring friends\, and help turn music into hope.
URL:https://donnaandthemystics.com/event/benefit-event-at-cb-campgrounds/
LOCATION:Twin River CB Campground\, 7910 County Rte 5\, Addison\, NY\, 14801\, United States
CATEGORIES:Local Gig
ATTACH;FMTTYPE=image/png:https://donnaandthemystics.com/wp-content/uploads/2026/02/2026-event-header.png
END:VEVENT
BEGIN:VEVENT
DTSTART;TZID=America/New_York:20260612T190000
DTEND;TZID=America/New_York:20260612T210000
DTSTAMP:20260422T184508
CREATED:20260210T171544Z
LAST-MODIFIED:20260210T171544Z
UID:1171-1781290800-1781298000@donnaandthemystics.com
SUMMARY:Newark Valley Train Depot Outdoor Concert
DESCRIPTION:Open to the public — bring a lawn chair! \nCountry music under the stars? Yes please! 🌙🎶 \nDonna and the Mystics are bringing live classic country to the Newark Valley Train Depot for an outdoor evening of great music\, fresh air\, and laid-back fun. \nThis show is open to the public\, so grab your friends\, pack up your lawn chairs\, and come enjoy a night of dancing\, singing along\, and good country vibes. It’s the perfect kickoff to summer — relaxed\, welcoming\, and full of music you know and love. \nPro tip: arrive early\, get comfy\, and stay for the whole show!
URL:https://donnaandthemystics.com/event/newark-valley-train-depot-outdoor-concert/
LOCATION:Newark Valley Train Depot Museum\, 109 Whig Street\, Newark Valley\, NY\, 13811\, United States
CATEGORIES:Local Gig
ATTACH;FMTTYPE=image/png:https://donnaandthemystics.com/wp-content/uploads/2026/02/2026-event-header.png
END:VEVENT
BEGIN:VEVENT
DTSTART;TZID=America/New_York:20260618T110000
DTEND;TZID=America/New_York:20260618T153000
DTSTAMP:20260422T184508
CREATED:20260316T181204Z
LAST-MODIFIED:20260316T181204Z
UID:1216-1781780400-1781796600@donnaandthemystics.com
SUMMARY:Tom Gilbo as Elvis - Live Tribute Dinner Show
DESCRIPTION:Thursday\, June 18th\, 2026 | Doors Open at 11am\nSouthern Tier Stablees\, 2068 Dumplin Hill Rd.\, Moravia\, NY 13118\n  \nThe King is coming to Moravia — and he’s bringing the whole show with him! \nMark and Donna Minnoe at Southern Tier Stables are proud to present Tom Gilbo\, one of the most electrifying Elvis tribute artists around\, for an afternoon of non-stop rock\, romance\, and rhinestones. Tom’s got the moves\, the voice\, and the charisma to transport you straight back to the golden age of the King of Rock ‘n’ Roll. Expect all your favorite Elvis classics performed with the energy and passion that made Presley a legend. And yes\, ladies\, there just might be some hugs\, kisses\, and scarves thrown your way! \nDust off those dancing shoes – there will absolutely be dancing\, and you won’t want to sit this one out. \nArrive early and make a full day of it at Southern Tier Stables! Enjoy a scenic wagon ride through the countryside\, explore the Mystic Music Museum\, marvel at the Farmall Tractor Display\, step back in time at the Agricultural Museum with its Stage Coach\, Sleighs\, and more\, or simply relax with a round of Bingo while taking in the gorgeous horse pasture scenery. \nYour ticket includes dinner\, so come hungry\, come ready to shake rattle and roll\, and come ready to be amazed. \n🎸 Bus loads welcome! Call for reservations: (315) 224-9085 or email southerntierstables@gmail.com \nSchedule:\n\nDoors open at 11:00 am\nWagon rides to Turn Back Time begin at 11:15 am\nMuseum displays are available all day\nDinner is served at 12:30 pm\nElvis Show starts at 1:45 pm
URL:https://donnaandthemystics.com/event/tom-gilbo-as-elvis-live-tribute-dinner-show/
LOCATION:The Golden Horseshoe\, 2068 Dumplin Hill Rd.\, Moravia\, NY\, 13118\, United States
CATEGORIES:Dinner Show
ATTACH;FMTTYPE=image/png:https://donnaandthemystics.com/wp-content/uploads/2026/03/Mr-and-Ms-Elvis.png
END:VEVENT
BEGIN:VEVENT
DTSTART;TZID=America/New_York:20260725T190000
DTEND;TZID=America/New_York:20260725T220000
DTSTAMP:20260422T184508
CREATED:20260210T171701Z
LAST-MODIFIED:20260210T171701Z
UID:1173-1785006000-1785016800@donnaandthemystics.com
SUMMARY:Donna and the Mystics at Waterloo Sportsman's Club
DESCRIPTION:When Donna and the Mystics hit the stage at Waterloo Sportsman’s Club\, you know you’re in for a great night of classic country\, dancing\, and down-home fun. This fan-favorite band brings a lively mix of traditional country hits\, honky-tonk favorites\, and crowd-pleasing tunes that keep the dance floor moving all night long. \nThe Sportsman’s Club is a perfect fit for the Mystics’ warm\, high-energy sound — friendly faces\, a relaxed atmosphere\, and music that feels like home. Whether you’re two-stepping with a partner\, singing along from your seat\, or just enjoying a night out with friends\, every show feels like a country get-together with great music at the center. \nDonna and the Mystics return to Waterloo Sportsman’s Club several times throughout the year\, and each show delivers the same thing: great songs\, great dancing\, and a room full of people having a good time. Come early\, stay late\, and be part of a night that keeps folks coming back for more.
URL:https://donnaandthemystics.com/event/donna-and-the-mystics-at-waterloo-sportsmans-club-3/
LOCATION:Waterloo Sportsman’s Club\, 2654 Edwards Rd.\, Waterloo\, NY\, 13165\, United States
ATTACH;FMTTYPE=image/png:https://donnaandthemystics.com/wp-content/uploads/2026/02/Waterloo-Club.png
END:VEVENT
BEGIN:VEVENT
DTSTART;TZID=America/New_York:20260829T150000
DTEND;TZID=America/New_York:20260829T190000
DTSTAMP:20260422T184508
CREATED:20260210T171831Z
LAST-MODIFIED:20260210T171831Z
UID:1175-1788015600-1788030000@donnaandthemystics.com
SUMMARY:Private Party
DESCRIPTION:
URL:https://donnaandthemystics.com/event/private-party-2/
LOCATION:NY
CATEGORIES:Private Event
END:VEVENT
BEGIN:VEVENT
DTSTART;TZID=America/New_York:20260830T143000
DTEND;TZID=America/New_York:20260830T190000
DTSTAMP:20260422T184508
CREATED:20260210T172023Z
LAST-MODIFIED:20260210T172023Z
UID:1177-1788100200-1788116400@donnaandthemystics.com
SUMMARY:Boot Scootin' at The Outpost
DESCRIPTION:Get ready for a boot-stompin’\, dance-floor-fillin’ night with Donna and the Mystics! 🤠🎵 \nThis crowd-favorite band brings classic country\, honky-tonk hits\, and feel-good favorites that keep the dance floor packed from the first song to the last. \nThe Outpost in McDonough\, NY\, is the perfect spot for a relaxed\, fun night out — great people\, great atmosphere\, and even better music. Whether you’re a longtime fan or seeing the band for the first time\, this is the kind of show that turns first-timers into regulars. \nCome early\, grab a drink\, and let the good times roll!
URL:https://donnaandthemystics.com/event/boot-scootin-at-the-outpost/
LOCATION:The Outpost\, 2706 NY-220\, Oxford\, NY\, 13830\, United States
ATTACH;FMTTYPE=image/png:https://donnaandthemystics.com/wp-content/uploads/2026/02/2026-event-header.png
END:VEVENT
BEGIN:VEVENT
DTSTART;TZID=America/New_York:20260912T140000
DTEND;TZID=America/New_York:20260912T160000
DTSTAMP:20260422T184508
CREATED:20260210T172532Z
LAST-MODIFIED:20260210T172532Z
UID:1180-1789221600-1789228800@donnaandthemystics.com
SUMMARY:Tomato Fest 2026
DESCRIPTION:Get ready to kick up your boots and sing along with Donna and the Mystics! 🎶 \n🔥 From rockin’ country hits to high-energy classics\, we’re bringing the party to a location near you! Grab your friends\, grab a drink\, and let’s make some memories. \nTomato Fest is a vibrant\, family-friendly festival featuring craft vendors\, live music\, delicious food\, kids’ activities\, and booths from local nonprofits. It’s a day of community connection and celebration in Downtown Auburn\, NY\, all while raising funds and awareness for food insecurity in our area. \nWhoop Whoop! 🤠🎸
URL:https://donnaandthemystics.com/event/tomato-fest-2026/
LOCATION:NY
CATEGORIES:Local Gig
ATTACH;FMTTYPE=image/webp:https://donnaandthemystics.com/wp-content/uploads/2026/02/TomatoFestLogoWhiteRedWebsite.webp
END:VEVENT
BEGIN:VEVENT
DTSTART;TZID=America/New_York:20260919T190000
DTEND;TZID=America/New_York:20260919T220000
DTSTAMP:20260422T184508
CREATED:20260210T172653Z
LAST-MODIFIED:20260210T172653Z
UID:1183-1789844400-1789855200@donnaandthemystics.com
SUMMARY:Donna and the Mystics at Waterloo Sportsman’s Club
DESCRIPTION:When Donna and the Mystics hit the stage at Waterloo Sportsman’s Club\, you know you’re in for a great night of classic country\, dancing\, and down-home fun. This fan-favorite band brings a lively mix of traditional country hits\, honky-tonk favorites\, and crowd-pleasing tunes that keep the dance floor moving all night long. \nThe Sportsman’s Club is a perfect fit for the Mystics’ warm\, high-energy sound — friendly faces\, a relaxed atmosphere\, and music that feels like home. Whether you’re two-stepping with a partner\, singing along from your seat\, or just enjoying a night out with friends\, every show feels like a country get-together with great music at the center. \nDonna and the Mystics return to Waterloo Sportsman’s Club several times throughout the year\, and each show delivers the same thing: great songs\, great dancing\, and a room full of people having a good time. Come early\, stay late\, and be part of a night that keeps folks coming back for more.
URL:https://donnaandthemystics.com/event/donna-and-the-mystics-at-waterloo-sportsmans-club-4/
LOCATION:Waterloo Sportsman’s Club\, 2654 Edwards Rd.\, Waterloo\, NY\, 13165\, United States
CATEGORIES:Local Gig
ATTACH;FMTTYPE=image/png:https://donnaandthemystics.com/wp-content/uploads/2026/02/Waterloo-Club.png
END:VEVENT
BEGIN:VEVENT
DTSTART;VALUE=DATE:20261011
DTEND;VALUE=DATE:20261012
DTSTAMP:20260422T184508
CREATED:20260210T172944Z
LAST-MODIFIED:20260210T172944Z
UID:1185-1791676800-1791763199@donnaandthemystics.com
SUMMARY:Country Jamboree
DESCRIPTION:Dust off your boots and get ready for a full-blown Country Jamboree at the Waterloo Sportsman’s Club! This is a celebration of classic country music\, dancing\, and good old-fashioned fun — the kind of night where the dance floor stays full and the smiles don’t quit. \nExpect a lively mix of toe-tappin’ favorites\, honky-tonk hits\, and crowd-pleasing country songs that bring people together. Whether you’re a seasoned two-stepper or just love the sound of real country music\, this jamboree is all about enjoying great tunes in a friendly\, welcoming atmosphere. \nThe Waterloo Sportsman’s Club is known for hosting some of the area’s best country nights\, and the Country Jamboree is one you won’t want to miss. Come early\, bring friends\, and settle in for a night of music\, dancing\, and memories that’ll have folks talking long after the last song. \nDonna and the Mystics hit the stage at: TBD
URL:https://donnaandthemystics.com/event/country-jamboree/
LOCATION:Waterloo Sportsman’s Club\, 2654 Edwards Rd.\, Waterloo\, NY\, 13165\, United States
CATEGORIES:Local Gig
ATTACH;FMTTYPE=image/png:https://donnaandthemystics.com/wp-content/uploads/2026/02/Waterloo-Club.png
END:VEVENT
BEGIN:VEVENT
DTSTART;TZID=America/New_York:20261015T110000
DTEND;TZID=America/New_York:20261015T153000
DTSTAMP:20260422T184508
CREATED:20260316T182250Z
LAST-MODIFIED:20260316T182250Z
UID:1219-1792062000-1792078200@donnaandthemystics.com
SUMMARY:"Duets Through the Years" - Featuring Donna Minnoe with Guest Dave Hoyt
DESCRIPTION:Thursday\, October 15th\, 2026 | Doors Open 11am\nSouthern Tier Stables\, 2068 Dumplin Hill Rd.\, Moravia\, NY 13118 \nTwo voices are always better than one – and this fall\, The Golden Horseshoe is proving it in style! \nJoin us for a spectacular afternoon celebrating the greatest country duets of all time as Donna Minnoe teams up with special guest Dave Hoyt to bring you “Duets Through the Years.” This show is a love letter to the legendary pairings that defined country music across the decades. Think the outlaw grit of Waylon & Jessi\, the timeless romance of Johnny & June\, the heartstring-pulling harmonies of Conway & Loretta\, the powerhouse chemistry of George Jones & Tammy Wynette\, and so much more. From Dolly Parton & Ricky Van Shelton to Vince Gill & Patty Loveless and Dwight Yoakam\, this is a setlist that will have you singing along all day long. \nIt’s the perfect way to spend a crisp October afternoon surrounded by great music\, great food\, and great company! \nBefore the show\, soak up everything Southern Tier Stables has to offer: take a scenic wagon ride through the autumn countryside\, explore the Mystic Music Museum\, check out the legendary Farmall Tractor Display\, wander through the Agricultural Museum featuring a real Stage Coach\, Sleighs\, and more\, or unwind with a game of Bingo while enjoying the peaceful beauty of the horse pastures. \nYour ticket includes dinner — so come early\, stay late\, and let the music move you. \n🎶 Bus loads welcome! Call for reservations: (315) 224-9085 or email southerntierstables@gmail.com \nSchedule:\n\nDoors open at 11:00 am\nWagon rides to Turn Back Time begin at 11:15 am\nMuseum displays are available all day\nDinner is served at 12:30 pm\nShow starts at 1:45 pm
URL:https://donnaandthemystics.com/event/duets-through-the-years-featuring-donna-minnoe-with-guest-dave-hoyt/
LOCATION:The Golden Horseshoe\, 2068 Dumplin Hill Rd.\, Moravia\, NY\, 13118\, United States
CATEGORIES:Dinner Show
END:VEVENT
BEGIN:VEVENT
DTSTART;VALUE=DATE:20261017
DTEND;VALUE=DATE:20261018
DTSTAMP:20260422T184508
CREATED:20260210T173024Z
LAST-MODIFIED:20260210T173024Z
UID:1187-1792195200-1792281599@donnaandthemystics.com
SUMMARY:Private Party
DESCRIPTION:
URL:https://donnaandthemystics.com/event/private-party-3/
LOCATION:NY
CATEGORIES:Private Event
END:VEVENT
BEGIN:VEVENT
DTSTART;TZID=America/New_York:20261031T190000
DTEND;TZID=America/New_York:20261031T220000
DTSTAMP:20260422T184508
CREATED:20260210T173228Z
LAST-MODIFIED:20260210T173351Z
UID:1189-1793473200-1793484000@donnaandthemystics.com
SUMMARY:Celebrate Halloween at Waterloo Sportsman’s Club
DESCRIPTION:Celebrate Halloween with Donna and the Mystics at Waterloo Sportsman’s Club. You know you’re in for a great night of classic country\, dancing\, and down-home fun!. This fan-favorite band brings a lively mix of traditional country hits\, honky-tonk favorites\, and crowd-pleasing tunes that keep the dance floor moving all night long. \nThe Sportsman’s Club is a perfect fit for the Mystics’ warm\, high-energy sound — friendly faces\, a relaxed atmosphere\, and music that feels like home. Whether you’re two-stepping with a partner\, singing along from your seat\, or just enjoying a night out with friends\, every show feels like a country get-together with great music at the center. \nDonna and the Mystics return to Waterloo Sportsman’s Club several times throughout the year\, and each show delivers the same thing: great songs\, great dancing\, and a room full of people having a good time. Come early\, stay late\, and be part of a night that keeps folks coming back for more.
URL:https://donnaandthemystics.com/event/donna-and-the-mystics-at-waterloo-sportsmans-club-5/
LOCATION:Waterloo Sportsman’s Club\, 2654 Edwards Rd.\, Waterloo\, NY\, 13165\, United States
CATEGORIES:Local Gig
ATTACH;FMTTYPE=image/png:https://donnaandthemystics.com/wp-content/uploads/2026/02/Waterloo-Club.png
END:VEVENT
BEGIN:VEVENT
DTSTART;TZID=America/New_York:20261128T190000
DTEND;TZID=America/New_York:20261128T220000
DTSTAMP:20260422T184508
CREATED:20260210T173330Z
LAST-MODIFIED:20260210T173330Z
UID:1191-1795892400-1795903200@donnaandthemystics.com
SUMMARY:Donna and the Mystics at Waterloo Sportsman’s Club
DESCRIPTION:When Donna and the Mystics hit the stage at Waterloo Sportsman’s Club\, you know you’re in for a great night of classic country\, dancing\, and down-home fun. This fan-favorite band brings a lively mix of traditional country hits\, honky-tonk favorites\, and crowd-pleasing tunes that keep the dance floor moving all night long. \nThe Sportsman’s Club is a perfect fit for the Mystics’ warm\, high-energy sound — friendly faces\, a relaxed atmosphere\, and music that feels like home. Whether you’re two-stepping with a partner\, singing along from your seat\, or just enjoying a night out with friends\, every show feels like a country get-together with great music at the center. \nDonna and the Mystics return to Waterloo Sportsman’s Club several times throughout the year\, and each show delivers the same thing: great songs\, great dancing\, and a room full of people having a good time. Come early\, stay late\, and be part of a night that keeps folks coming back for more.
URL:https://donnaandthemystics.com/event/donna-and-the-mystics-at-waterloo-sportsmans-club-6/
LOCATION:Waterloo Sportsman’s Club\, 2654 Edwards Rd.\, Waterloo\, NY\, 13165\, United States
CATEGORIES:Local Gig
ATTACH;FMTTYPE=image/png:https://donnaandthemystics.com/wp-content/uploads/2026/02/Waterloo-Club.png
END:VEVENT
END:VCALENDAR