BEGIN:VCALENDAR
VERSION:2.0
PRODID:-// - ECPv6.15.20//NONSGML v1.0//EN
CALSCALE:GREGORIAN
METHOD:PUBLISH
X-ORIGINAL-URL:https://donnaandthemystics.com
X-WR-CALDESC:Events for 
REFRESH-INTERVAL;VALUE=DURATION:PT1H
X-Robots-Tag:noindex
X-PUBLISHED-TTL:PT1H
BEGIN:VTIMEZONE
TZID:America/New_York
BEGIN:DAYLIGHT
TZOFFSETFROM:-0500
TZOFFSETTO:-0400
TZNAME:EDT
DTSTART:20250309T070000
END:DAYLIGHT
BEGIN:STANDARD
TZOFFSETFROM:-0400
TZOFFSETTO:-0500
TZNAME:EST
DTSTART:20251102T060000
END:STANDARD
BEGIN:DAYLIGHT
TZOFFSETFROM:-0500
TZOFFSETTO:-0400
TZNAME:EDT
DTSTART:20260308T070000
END:DAYLIGHT
BEGIN:STANDARD
TZOFFSETFROM:-0400
TZOFFSETTO:-0500
TZNAME:EST
DTSTART:20261101T060000
END:STANDARD
BEGIN:DAYLIGHT
TZOFFSETFROM:-0500
TZOFFSETTO:-0400
TZNAME:EDT
DTSTART:20270314T070000
END:DAYLIGHT
BEGIN:STANDARD
TZOFFSETFROM:-0400
TZOFFSETTO:-0500
TZNAME:EST
DTSTART:20271107T060000
END:STANDARD
END:VTIMEZONE
BEGIN:VEVENT
DTSTART;VALUE=DATE:20261017
DTEND;VALUE=DATE:20261018
DTSTAMP:20260423T024238
CREATED:20260210T173024Z
LAST-MODIFIED:20260210T173024Z
UID:1187-1792195200-1792281599@donnaandthemystics.com
SUMMARY:Private Party
DESCRIPTION:
URL:https://donnaandthemystics.com/event/private-party-3/
LOCATION:NY
CATEGORIES:Private Event
END:VEVENT
BEGIN:VEVENT
DTSTART;TZID=America/New_York:20261031T190000
DTEND;TZID=America/New_York:20261031T220000
DTSTAMP:20260423T024238
CREATED:20260210T173228Z
LAST-MODIFIED:20260210T173351Z
UID:1189-1793473200-1793484000@donnaandthemystics.com
SUMMARY:Celebrate Halloween at Waterloo Sportsman’s Club
DESCRIPTION:Celebrate Halloween with Donna and the Mystics at Waterloo Sportsman’s Club. You know you’re in for a great night of classic country\, dancing\, and down-home fun!. This fan-favorite band brings a lively mix of traditional country hits\, honky-tonk favorites\, and crowd-pleasing tunes that keep the dance floor moving all night long. \nThe Sportsman’s Club is a perfect fit for the Mystics’ warm\, high-energy sound — friendly faces\, a relaxed atmosphere\, and music that feels like home. Whether you’re two-stepping with a partner\, singing along from your seat\, or just enjoying a night out with friends\, every show feels like a country get-together with great music at the center. \nDonna and the Mystics return to Waterloo Sportsman’s Club several times throughout the year\, and each show delivers the same thing: great songs\, great dancing\, and a room full of people having a good time. Come early\, stay late\, and be part of a night that keeps folks coming back for more.
URL:https://donnaandthemystics.com/event/donna-and-the-mystics-at-waterloo-sportsmans-club-5/
LOCATION:Waterloo Sportsman’s Club\, 2654 Edwards Rd.\, Waterloo\, NY\, 13165\, United States
CATEGORIES:Local Gig
ATTACH;FMTTYPE=image/png:https://donnaandthemystics.com/wp-content/uploads/2026/02/Waterloo-Club.png
END:VEVENT
BEGIN:VEVENT
DTSTART;TZID=America/New_York:20261128T190000
DTEND;TZID=America/New_York:20261128T220000
DTSTAMP:20260423T024238
CREATED:20260210T173330Z
LAST-MODIFIED:20260210T173330Z
UID:1191-1795892400-1795903200@donnaandthemystics.com
SUMMARY:Donna and the Mystics at Waterloo Sportsman’s Club
DESCRIPTION:When Donna and the Mystics hit the stage at Waterloo Sportsman’s Club\, you know you’re in for a great night of classic country\, dancing\, and down-home fun. This fan-favorite band brings a lively mix of traditional country hits\, honky-tonk favorites\, and crowd-pleasing tunes that keep the dance floor moving all night long. \nThe Sportsman’s Club is a perfect fit for the Mystics’ warm\, high-energy sound — friendly faces\, a relaxed atmosphere\, and music that feels like home. Whether you’re two-stepping with a partner\, singing along from your seat\, or just enjoying a night out with friends\, every show feels like a country get-together with great music at the center. \nDonna and the Mystics return to Waterloo Sportsman’s Club several times throughout the year\, and each show delivers the same thing: great songs\, great dancing\, and a room full of people having a good time. Come early\, stay late\, and be part of a night that keeps folks coming back for more.
URL:https://donnaandthemystics.com/event/donna-and-the-mystics-at-waterloo-sportsmans-club-6/
LOCATION:Waterloo Sportsman’s Club\, 2654 Edwards Rd.\, Waterloo\, NY\, 13165\, United States
CATEGORIES:Local Gig
ATTACH;FMTTYPE=image/png:https://donnaandthemystics.com/wp-content/uploads/2026/02/Waterloo-Club.png
END:VEVENT
END:VCALENDAR